BEGIN:VCALENDAR
VERSION:2.0
PRODID:-//Kulturtreff Bothfeld - ECPv6.15.20//NONSGML v1.0//EN
CALSCALE:GREGORIAN
METHOD:PUBLISH
X-WR-CALNAME:Kulturtreff Bothfeld
X-ORIGINAL-URL:https://www.kulturtreffbothfeld.de
X-WR-CALDESC:Veranstaltungen für Kulturtreff Bothfeld
REFRESH-INTERVAL;VALUE=DURATION:PT1H
X-Robots-Tag:noindex
X-PUBLISHED-TTL:PT1H
BEGIN:VTIMEZONE
TZID:Europe/Berlin
BEGIN:DAYLIGHT
TZOFFSETFROM:+0100
TZOFFSETTO:+0200
TZNAME:CEST
DTSTART:20240331T010000
END:DAYLIGHT
BEGIN:STANDARD
TZOFFSETFROM:+0200
TZOFFSETTO:+0100
TZNAME:CET
DTSTART:20241027T010000
END:STANDARD
BEGIN:DAYLIGHT
TZOFFSETFROM:+0100
TZOFFSETTO:+0200
TZNAME:CEST
DTSTART:20250330T010000
END:DAYLIGHT
BEGIN:STANDARD
TZOFFSETFROM:+0200
TZOFFSETTO:+0100
TZNAME:CET
DTSTART:20251026T010000
END:STANDARD
BEGIN:DAYLIGHT
TZOFFSETFROM:+0100
TZOFFSETTO:+0200
TZNAME:CEST
DTSTART:20260329T010000
END:DAYLIGHT
BEGIN:STANDARD
TZOFFSETFROM:+0200
TZOFFSETTO:+0100
TZNAME:CET
DTSTART:20261025T010000
END:STANDARD
END:VTIMEZONE
BEGIN:VEVENT
DTSTART;TZID=Europe/Berlin:20250930T173000
DTEND;TZID=Europe/Berlin:20250930T190000
DTSTAMP:20260422T015047
CREATED:20250803T224519Z
LAST-MODIFIED:20250707T094713Z
UID:12374-1759253400-1759258800@www.kulturtreffbothfeld.de
SUMMARY:Umwelt- und klimaverträgliches Bauen - ist die Grasdachsiedlung (noch) ein Vorbild?
DESCRIPTION:Diskussionsveranstaltung: Umwelt- und klimaverträgliches Bauen – ist die Grasdachsiedlung (noch) ein Vorbild?\nDie Bothfelder Grasdachsiedlung\, 1984 gebaut\, war ein in Deutschland einzigartiges Bauprojekt. Die Architekten gewannen seinerzeit zahlreiche Preise für ökologisch nachhaltiges Bauen und die Siedlung zog Interessierte aus ganz Deutschland und dem Ausland an.\nIm August 2024 feierten die Bewohner*innen das 40-jährige Bestehen ihrer Siedlung – Anlass für eine Diskussion zu den Themen umweltfreundliches Bauen und einer an Umwelt- und Klimaschutz orientierten Stadtplanung: Hält die Siedlung heutigen Anforderungen an modernes und umweltfreundliches Bauen stand? Wie können Bewohner*innen in verdichteten Ballungsgebieten gemeinschaftlich nachhaltig leben? Wie können knappe Flächen baulich optimal genutzt werden? Wie klimaverträglich und umweltfreundlich sind heutige Architektur und Bauplanung generell\, und speziell in Hannover?\nDiese und weitere Fragen können in Bezug auf die Zukunft des Bauens mit Fachleuten aus den relevanten Bereichen diskutiert werden.\nLeitung: Dr. Hans Georg Schütze\, 1. Vorsitzender Grasdachsiedlung Bothfeld e.V.\nKostenlos\, vorherige Anmeldung erbeten!
URL:https://www.kulturtreffbothfeld.de/events/umwelt-und-klimavertraegliches-bauen-ist-die-grasdachsiedlung-noch-ein-vorbild/
CATEGORIES:Einzelveranstaltungen,Programm,Veranstaltungen
END:VEVENT
END:VCALENDAR