BEGIN:VCALENDAR
VERSION:2.0
PRODID:-//Kulturtreff Bothfeld - ECPv6.15.20//NONSGML v1.0//EN
CALSCALE:GREGORIAN
METHOD:PUBLISH
X-WR-CALNAME:Kulturtreff Bothfeld
X-ORIGINAL-URL:https://www.kulturtreffbothfeld.de
X-WR-CALDESC:Veranstaltungen für Kulturtreff Bothfeld
REFRESH-INTERVAL;VALUE=DURATION:PT1H
X-Robots-Tag:noindex
X-PUBLISHED-TTL:PT1H
BEGIN:VTIMEZONE
TZID:Europe/Berlin
BEGIN:DAYLIGHT
TZOFFSETFROM:+0100
TZOFFSETTO:+0200
TZNAME:CEST
DTSTART:20240331T010000
END:DAYLIGHT
BEGIN:STANDARD
TZOFFSETFROM:+0200
TZOFFSETTO:+0100
TZNAME:CET
DTSTART:20241027T010000
END:STANDARD
BEGIN:DAYLIGHT
TZOFFSETFROM:+0100
TZOFFSETTO:+0200
TZNAME:CEST
DTSTART:20250330T010000
END:DAYLIGHT
BEGIN:STANDARD
TZOFFSETFROM:+0200
TZOFFSETTO:+0100
TZNAME:CET
DTSTART:20251026T010000
END:STANDARD
BEGIN:DAYLIGHT
TZOFFSETFROM:+0100
TZOFFSETTO:+0200
TZNAME:CEST
DTSTART:20260329T010000
END:DAYLIGHT
BEGIN:STANDARD
TZOFFSETFROM:+0200
TZOFFSETTO:+0100
TZNAME:CET
DTSTART:20261025T010000
END:STANDARD
END:VTIMEZONE
BEGIN:VEVENT
DTSTART;TZID=Europe/Berlin:20251007T193000
DTEND;TZID=Europe/Berlin:20251007T210000
DTSTAMP:20260422T000154
CREATED:20250803T225734Z
LAST-MODIFIED:20251006T061925Z
UID:12382-1759865400-1759870800@www.kulturtreffbothfeld.de
SUMMARY:Rumi-Abend - ausgebucht!
DESCRIPTION:Die Veranstaltung ist bereits ausgebucht!\nEin Abend für’s Herz – mit Poesie\, Gesang und Rhythmen\nSternstunden gesungener Weisheit und Liebe: ein Abend voller Vergnügen\, Tiefgang und Zauber. Wir lauschen dem Ensemble Soveida\, das authentische Musik auf verschiedenen persischen Instrumenten spielt. Es erklingen Daf\, Tanbur\, Tar und Tombak. Wer mag\, singt gerne die schönen und einfachen Melodien mit und lässt sich davon tragen wie in eine andere Welt.\nVon beruhigenden meditativen Klängen bis hin zu mitreißenden Melodien und Rhythmen ist alles dabei. Es werden zeitlose Gedichte des persischen Dichters Rumi gelesen und so erleben wir einen unvergesslichen Abend für Kopf und Herz
URL:https://www.kulturtreffbothfeld.de/events/rumi-abend-2/
CATEGORIES:Einzelveranstaltungen,Programm,Veranstaltungen
END:VEVENT
END:VCALENDAR