BEGIN:VCALENDAR
VERSION:2.0
PRODID:-//Kulturtreff Bothfeld - ECPv6.15.20//NONSGML v1.0//EN
CALSCALE:GREGORIAN
METHOD:PUBLISH
X-WR-CALNAME:Kulturtreff Bothfeld
X-ORIGINAL-URL:https://www.kulturtreffbothfeld.de
X-WR-CALDESC:Veranstaltungen für Kulturtreff Bothfeld
REFRESH-INTERVAL;VALUE=DURATION:PT1H
X-Robots-Tag:noindex
X-PUBLISHED-TTL:PT1H
BEGIN:VTIMEZONE
TZID:Europe/Berlin
BEGIN:DAYLIGHT
TZOFFSETFROM:+0100
TZOFFSETTO:+0200
TZNAME:CEST
DTSTART:20240331T010000
END:DAYLIGHT
BEGIN:STANDARD
TZOFFSETFROM:+0200
TZOFFSETTO:+0100
TZNAME:CET
DTSTART:20241027T010000
END:STANDARD
BEGIN:DAYLIGHT
TZOFFSETFROM:+0100
TZOFFSETTO:+0200
TZNAME:CEST
DTSTART:20250330T010000
END:DAYLIGHT
BEGIN:STANDARD
TZOFFSETFROM:+0200
TZOFFSETTO:+0100
TZNAME:CET
DTSTART:20251026T010000
END:STANDARD
BEGIN:DAYLIGHT
TZOFFSETFROM:+0100
TZOFFSETTO:+0200
TZNAME:CEST
DTSTART:20260329T010000
END:DAYLIGHT
BEGIN:STANDARD
TZOFFSETFROM:+0200
TZOFFSETTO:+0100
TZNAME:CET
DTSTART:20261025T010000
END:STANDARD
END:VTIMEZONE
BEGIN:VEVENT
DTSTART;TZID=Europe/Berlin:20251029T153000
DTEND;TZID=Europe/Berlin:20251029T163000
DTSTAMP:20260421T224459
CREATED:20250803T221020Z
LAST-MODIFIED:20250904T090757Z
UID:12395-1761751800-1761755400@www.kulturtreffbothfeld.de
SUMMARY:Führung Sprengelmuseum: "Niki.Kusama.Murakami"
DESCRIPTION:Die Veranstaltung ist leider ausgebucht!\n„Love you for infinity“ ist ein großes Ausstellungshighlight\, das Werke von Niki de Saint Phalle erstmals gemeinsam mit Arbeiten von Yayoi Kusama und Takashi Murakami zeigt. Alle drei Künstler*innen eint eine Begeisterung für bunte\, ausdrucksstarke Farbwelten und Formen. Ihre Bildsprache überschreitet die Grenzen von Kunst\, Popkultur und Kommerz und behandelt zentrale Themen wie Kunst und Konsum\, Leben und Tod sowie Sexualität und Traumata – jedes Werk auf seine eigene Weise. Auf über 2.000 Quadratmetern entstehen überraschende Verbindungen zwischen den großformatigen Werken: von überbordender Lebensfreude bis zu existenziellen Bedrohungen\, von Feminismus und weiblicher Selbstbehauptung bis hin zu männlicher Dominanz.\nAnlass für diese besondere Schau ist die Schenkung von über 400 Arbeiten\, die Niki de Saint Phalle dem Sprengel Museum im Jahr 2000 machte.\nNach der einstündigen Führung bleibt Zeit\, um auf eigene Faust durch das Museum zu streifen.\nTeilnahmebeitrag (Eintritt und Führung): 16\,-/erm 14\,-€\nVorherige Anmeldung und Bezahlung im Kulturtreff erforderlich!\nTreffpunkt: Eingang Sprengelmuseum
URL:https://www.kulturtreffbothfeld.de/events/fuehrung-sprengelmuseum-niki-kusama-murakami/
CATEGORIES:Einzelveranstaltungen,Programm,Veranstaltungen
END:VEVENT
END:VCALENDAR