BEGIN:VCALENDAR
VERSION:2.0
PRODID:-//Kulturtreff Bothfeld - ECPv6.15.20//NONSGML v1.0//EN
CALSCALE:GREGORIAN
METHOD:PUBLISH
X-WR-CALNAME:Kulturtreff Bothfeld
X-ORIGINAL-URL:https://www.kulturtreffbothfeld.de
X-WR-CALDESC:Veranstaltungen für Kulturtreff Bothfeld
REFRESH-INTERVAL;VALUE=DURATION:PT1H
X-Robots-Tag:noindex
X-PUBLISHED-TTL:PT1H
BEGIN:VTIMEZONE
TZID:Europe/Berlin
BEGIN:DAYLIGHT
TZOFFSETFROM:+0100
TZOFFSETTO:+0200
TZNAME:CEST
DTSTART:20250330T010000
END:DAYLIGHT
BEGIN:STANDARD
TZOFFSETFROM:+0200
TZOFFSETTO:+0100
TZNAME:CET
DTSTART:20251026T010000
END:STANDARD
BEGIN:DAYLIGHT
TZOFFSETFROM:+0100
TZOFFSETTO:+0200
TZNAME:CEST
DTSTART:20260329T010000
END:DAYLIGHT
BEGIN:STANDARD
TZOFFSETFROM:+0200
TZOFFSETTO:+0100
TZNAME:CET
DTSTART:20261025T010000
END:STANDARD
BEGIN:DAYLIGHT
TZOFFSETFROM:+0100
TZOFFSETTO:+0200
TZNAME:CEST
DTSTART:20270328T010000
END:DAYLIGHT
BEGIN:STANDARD
TZOFFSETFROM:+0200
TZOFFSETTO:+0100
TZNAME:CET
DTSTART:20271031T010000
END:STANDARD
END:VTIMEZONE
BEGIN:VEVENT
DTSTART;TZID=Europe/Berlin:20260127T180000
DTEND;TZID=Europe/Berlin:20260127T190000
DTSTAMP:20260421T135724
CREATED:20251215T091453Z
LAST-MODIFIED:20251215T091453Z
UID:12761-1769536800-1769540400@www.kulturtreffbothfeld.de
SUMMARY:Vernissage Andrea Kaltenthaler
DESCRIPTION:Ausstellung Andrea Kaltenthaler: “Federn\, Fell und Farben” \nDie Liebe zur Natur und zum Detail zeigt Andrea Kaltenthaler in ihren Acrylbildern. Insbesondere die Vogelbeobachtung ist ein wichtiger Teil ihrer Arbeit geworden\, sowohl im eigenen Garten als auch europaweit. Seit zehn Jahren wird die hannoversche Künstlerin auch vom Vogelkundemuseum Halberstadt regelmäßig zu den “Moderne Vogelbilder”- Ausstellungen eingeladen\, und darf seit 2020 ihre Wildtierbilder auch im Naturkundemuseum Magdeburg präsentieren. Die “Zugvogeltage 2024” und die Teilnahme an der Gruppenausstellung in der Seefelder Mühle an der Nordsee waren ein weiteres Highlight. Mit über 20 neuen Werken von farbenfrohen Bienenfressern bis zum imposanten Wisent freut sich Andrea Kaltenthaler über die Möglichkeit\, wieder einmal in Hannover präsent sein zu dürfen – und auf viele interessierte Besucher\nZur Vernissage am Di\,.27.1. um 18 Uhr laden wir Sie herzlich ein. Voranmeldung erbeten.
URL:https://www.kulturtreffbothfeld.de/events/vernissage-andrea-kaltenthaler-2/
CATEGORIES:Einzelveranstaltungen,Programm,Veranstaltungen
END:VEVENT
END:VCALENDAR