BEGIN:VCALENDAR
VERSION:2.0
PRODID:-//Kulturtreff Bothfeld - ECPv6.15.20//NONSGML v1.0//EN
CALSCALE:GREGORIAN
METHOD:PUBLISH
X-WR-CALNAME:Kulturtreff Bothfeld
X-ORIGINAL-URL:https://www.kulturtreffbothfeld.de
X-WR-CALDESC:Veranstaltungen für Kulturtreff Bothfeld
REFRESH-INTERVAL;VALUE=DURATION:PT1H
X-Robots-Tag:noindex
X-PUBLISHED-TTL:PT1H
BEGIN:VTIMEZONE
TZID:Europe/Berlin
BEGIN:DAYLIGHT
TZOFFSETFROM:+0100
TZOFFSETTO:+0200
TZNAME:CEST
DTSTART:20250330T010000
END:DAYLIGHT
BEGIN:STANDARD
TZOFFSETFROM:+0200
TZOFFSETTO:+0100
TZNAME:CET
DTSTART:20251026T010000
END:STANDARD
BEGIN:DAYLIGHT
TZOFFSETFROM:+0100
TZOFFSETTO:+0200
TZNAME:CEST
DTSTART:20260329T010000
END:DAYLIGHT
BEGIN:STANDARD
TZOFFSETFROM:+0200
TZOFFSETTO:+0100
TZNAME:CET
DTSTART:20261025T010000
END:STANDARD
BEGIN:DAYLIGHT
TZOFFSETFROM:+0100
TZOFFSETTO:+0200
TZNAME:CEST
DTSTART:20270328T010000
END:DAYLIGHT
BEGIN:STANDARD
TZOFFSETFROM:+0200
TZOFFSETTO:+0100
TZNAME:CET
DTSTART:20271031T010000
END:STANDARD
END:VTIMEZONE
BEGIN:VEVENT
DTSTART;TZID=Europe/Berlin:20260306T100000
DTEND;TZID=Europe/Berlin:20260306T133000
DTSTAMP:20260421T122724
CREATED:20260104T235502Z
LAST-MODIFIED:20260303T074717Z
UID:12783-1772791200-1772803800@www.kulturtreffbothfeld.de
SUMMARY:Workshop Umgang mit rechten\, diskriminierenden Parolen
DESCRIPTION:Leider ausgebucht\, nur noch Warteliste möglich\nWorkshop Demokratiestärkung: Umgang mit rechten\, diskriminierenden Parolen \nDer Arbeitskollege zieht über Minderheiten her? Im Bus beschimpft ein Fahrgast eine Kopftuchträgerin? Die Tante sprengt die Familienfeier mit diskriminierenden Sprüchen? Wer sich in solchen Momenten sprachlos fühlt und sich nachher am meisten über sich selbst ärgert – nämlich darüber\, dass er/sie nichts dazu gesagt hat – der/die ist in diesem interaktiven Kurzworkshop richtig. Schweigen kann Zustimmung bedeuten und wir wollen gegen das Schweigen angehen. Zumindest Menschen\, die in ihrer eigenen Haltung verunsichert sind\, können wir so erreichen. Und wir können mithelfen für ein Klima zu sorgen\, welches rechtsextreme und demokratiefeindliche Äußerungen nicht einfach hinnimmt.\nDer Schwerpunkt des Workshops liegt auf dem Ausprobieren und Einüben verschiedener Gesprächstechniken. Offenheit und ein aktives Mitmachen werden daher vorausgesetzt. Vorkenntnisse sind nicht erforderlich.\nLeitung: Helga B. Gundlach (Trainerin\, Beraterin und Moderatorin)\nTeilnahmebeitrag: 5\,- €\nVorherige Anmeldung erforderlich!\nEine Veranstaltung im Rahmen des Projektes „Demokratie: Dialog“\, gefördert von der LHH
URL:https://www.kulturtreffbothfeld.de/events/workshop-umgang-mit-rechten-diskriminierenden-parolen/
CATEGORIES:Einzelveranstaltungen,Programm,Veranstaltungen
END:VEVENT
END:VCALENDAR