BEGIN:VCALENDAR
VERSION:2.0
PRODID:-//Kulturtreff Bothfeld - ECPv6.15.20//NONSGML v1.0//EN
CALSCALE:GREGORIAN
METHOD:PUBLISH
X-ORIGINAL-URL:https://www.kulturtreffbothfeld.de
X-WR-CALDESC:Veranstaltungen für Kulturtreff Bothfeld
REFRESH-INTERVAL;VALUE=DURATION:PT1H
X-Robots-Tag:noindex
X-PUBLISHED-TTL:PT1H
BEGIN:VTIMEZONE
TZID:Europe/Berlin
BEGIN:DAYLIGHT
TZOFFSETFROM:+0100
TZOFFSETTO:+0200
TZNAME:CEST
DTSTART:20250330T010000
END:DAYLIGHT
BEGIN:STANDARD
TZOFFSETFROM:+0200
TZOFFSETTO:+0100
TZNAME:CET
DTSTART:20251026T010000
END:STANDARD
BEGIN:DAYLIGHT
TZOFFSETFROM:+0100
TZOFFSETTO:+0200
TZNAME:CEST
DTSTART:20260329T010000
END:DAYLIGHT
BEGIN:STANDARD
TZOFFSETFROM:+0200
TZOFFSETTO:+0100
TZNAME:CET
DTSTART:20261025T010000
END:STANDARD
BEGIN:DAYLIGHT
TZOFFSETFROM:+0100
TZOFFSETTO:+0200
TZNAME:CEST
DTSTART:20270328T010000
END:DAYLIGHT
BEGIN:STANDARD
TZOFFSETFROM:+0200
TZOFFSETTO:+0100
TZNAME:CET
DTSTART:20271031T010000
END:STANDARD
END:VTIMEZONE
BEGIN:VEVENT
DTSTART;TZID=Europe/Berlin:20260429T160000
DTEND;TZID=Europe/Berlin:20260429T190000
DTSTAMP:20260421T120439
CREATED:20260401T124921Z
LAST-MODIFIED:20260317T135215Z
UID:13065-1777478400-1777489200@www.kulturtreffbothfeld.de
SUMMARY:Kreativer Sketchie-Workshop
DESCRIPTION:Das Angebot lädt ein\, unter fachlicher Anleitung kleine Zeichnungen und bunte Skizzen zu gestalten. Thema ist dabei der Dialog. Wie sieht er aus\, warum ist er wichtig\, welche Bedingungen lassen ihn gelingen oder scheitern? Wie können wir Dialog buchstabieren? D wie Demokratisch\, I wie Individuell\, A wie …. Gemeinsam und individuell können Plakate und Postkarten mit „Sketchies“ gestaltet werden. \n\nEinführung ins Sketching\nInspirierende Impulse zum Thema: Dialog\nKreatives Arbeiten in angenehmer Atmosphäre \nDie benötigten Materialien werden gestellt. Anmeldung erforderlich. Teilnahmegebühr 7\,50 €\nAnja Schröder/Elke Wittrin\n\n\n\nEine Veranstaltung im Rahmen des Projekts „Demokratie:Dialog“\, gefördert von der Landeshauptstadt Hannover.
URL:https://www.kulturtreffbothfeld.de/events/kreativer-sketchie-workshop/
CATEGORIES:Demokratie:Dialog,Einzelveranstaltungen,Programm,Veranstaltungen
END:VEVENT
END:VCALENDAR