BEGIN:VCALENDAR
VERSION:2.0
PRODID:-//Kulturtreff Bothfeld - ECPv6.15.20//NONSGML v1.0//EN
CALSCALE:GREGORIAN
METHOD:PUBLISH
X-ORIGINAL-URL:https://www.kulturtreffbothfeld.de
X-WR-CALDESC:Veranstaltungen für Kulturtreff Bothfeld
REFRESH-INTERVAL;VALUE=DURATION:PT1H
X-Robots-Tag:noindex
X-PUBLISHED-TTL:PT1H
BEGIN:VTIMEZONE
TZID:Europe/Berlin
BEGIN:DAYLIGHT
TZOFFSETFROM:+0100
TZOFFSETTO:+0200
TZNAME:CEST
DTSTART:20250330T010000
END:DAYLIGHT
BEGIN:STANDARD
TZOFFSETFROM:+0200
TZOFFSETTO:+0100
TZNAME:CET
DTSTART:20251026T010000
END:STANDARD
BEGIN:DAYLIGHT
TZOFFSETFROM:+0100
TZOFFSETTO:+0200
TZNAME:CEST
DTSTART:20260329T010000
END:DAYLIGHT
BEGIN:STANDARD
TZOFFSETFROM:+0200
TZOFFSETTO:+0100
TZNAME:CET
DTSTART:20261025T010000
END:STANDARD
BEGIN:DAYLIGHT
TZOFFSETFROM:+0100
TZOFFSETTO:+0200
TZNAME:CEST
DTSTART:20270328T010000
END:DAYLIGHT
BEGIN:STANDARD
TZOFFSETFROM:+0200
TZOFFSETTO:+0100
TZNAME:CET
DTSTART:20271031T010000
END:STANDARD
END:VTIMEZONE
BEGIN:VEVENT
DTSTART;TZID=Europe/Berlin:20260504T100000
DTEND;TZID=Europe/Berlin:20260504T113000
DTSTAMP:20260421T125424
CREATED:20260401T081801Z
LAST-MODIFIED:20260318T092002Z
UID:13095-1777888800-1777894200@www.kulturtreffbothfeld.de
SUMMARY:Denkpfad - eine ungewöhnliche Stadtführung
DESCRIPTION:Entdecken Sie die Stadt Hannover und trainieren gleichzeitig spielerisch Ihr Gedächtnis! Was hat der Schrägaufzug in der Rathauskuppel mit Ihrer Merkfähigkeit zu tun? Die Stadt wird Kulisse für spannende Merktechniken. Nutzen Sie die Vielfalt und Möglichkeit Ihres Gehirns einmal anders.\nTreffpunkt: Neues Rathaus\nKatja Kuhnt\nTeilnahmegebühr 10\,- €\nAnmeldung und Bezahlung im Kulturtreff bis zum 28.04. \nIn Kooperation mit dem Kulturtreff Hainholz
URL:https://www.kulturtreffbothfeld.de/events/denkpfad-eine-ungewoehnliche-stadtfuehrung/
CATEGORIES:Einzelveranstaltungen,Programm,Veranstaltungen
END:VEVENT
END:VCALENDAR