BEGIN:VCALENDAR
VERSION:2.0
PRODID:-//Kulturtreff Bothfeld - ECPv6.15.20//NONSGML v1.0//EN
CALSCALE:GREGORIAN
METHOD:PUBLISH
X-ORIGINAL-URL:https://www.kulturtreffbothfeld.de
X-WR-CALDESC:Veranstaltungen für Kulturtreff Bothfeld
REFRESH-INTERVAL;VALUE=DURATION:PT1H
X-Robots-Tag:noindex
X-PUBLISHED-TTL:PT1H
BEGIN:VTIMEZONE
TZID:Europe/Berlin
BEGIN:DAYLIGHT
TZOFFSETFROM:+0100
TZOFFSETTO:+0200
TZNAME:CEST
DTSTART:20210328T010000
END:DAYLIGHT
BEGIN:STANDARD
TZOFFSETFROM:+0200
TZOFFSETTO:+0100
TZNAME:CET
DTSTART:20211031T010000
END:STANDARD
BEGIN:DAYLIGHT
TZOFFSETFROM:+0100
TZOFFSETTO:+0200
TZNAME:CEST
DTSTART:20220327T010000
END:DAYLIGHT
BEGIN:STANDARD
TZOFFSETFROM:+0200
TZOFFSETTO:+0100
TZNAME:CET
DTSTART:20221030T010000
END:STANDARD
BEGIN:DAYLIGHT
TZOFFSETFROM:+0100
TZOFFSETTO:+0200
TZNAME:CEST
DTSTART:20230326T010000
END:DAYLIGHT
BEGIN:STANDARD
TZOFFSETFROM:+0200
TZOFFSETTO:+0100
TZNAME:CET
DTSTART:20231029T010000
END:STANDARD
END:VTIMEZONE
BEGIN:VEVENT
DTSTART;TZID=Europe/Berlin:20220208T150000
DTEND;TZID=Europe/Berlin:20220208T170000
DTSTAMP:20260426T053453
CREATED:20211216T111501Z
LAST-MODIFIED:20211216T111501Z
UID:8347-1644332400-1644339600@www.kulturtreffbothfeld.de
SUMMARY:Erzählcafé für Senior*innen
DESCRIPTION:Der Kulturtreff lädt zum Erzählcafé ein. In gemütlicher Atmosphäre wollen wir zuhören und erzählen\, Erinnerungen\, Erlebnisse\, Gedanken und Erfahrungen teilen und kennenlernen. Herzlich willkommen! \nGesprächsthema am 8.2.: “Im Ehrenamt engagiert – warum mache ich das\, was bringt es mir? Oder warum mache ich so etwas nicht (mehr)?” \nVorherige Anmeldung im Kulturtreff erforderlich! \nRenate Klute
URL:https://www.kulturtreffbothfeld.de/events/erzaehlcafe-fuer-seniorinnen/
CATEGORIES:Einzelveranstaltungen,Kaffeezeit für SeniorInnen,Programm,Veranstaltungen
END:VEVENT
BEGIN:VEVENT
DTSTART;TZID=Europe/Berlin:20220211T160000
DTEND;TZID=Europe/Berlin:20220211T170000
DTSTAMP:20260426T053453
CREATED:20211216T092358Z
LAST-MODIFIED:20211216T095651Z
UID:8321-1644595200-1644598800@www.kulturtreffbothfeld.de
SUMMARY:USE-LESS
DESCRIPTION:Führung durch die Ausstellung im Museum August Kestner  \nEgal ob Jeans\, T-Shirts oder Nylonstrümpfe – Kleidung entsteht in komplexen Produktionsabläufen mit Folgen für Menschen und Umwelt. Die Ausstellung Use-Less stellt die Ergebnisse der Slow Fashion-Forschung der Hochschule Hannover vor. Die Designprojekte der Studierenden machen deutlich\, wie Mode langlebig\, ressourcensparend und schön gestaltet werden kann. Gleichzeitig wird die Frage gestellt\, was Nutzer*innen durch ihre Art des Konsums verändern können. Dabei spielen Umweltschutz und faire Arbeitsbedingungen eine ebenso große Rolle wie Material\, Kreativität und Ästhetik. \nInteraktive Stationen laden ein\, näher in Kontakt mit Mode und Gestaltung zu treten und sich mit dem Erlernen von kreativen Fähigkeiten wie Reparatur\, Upcycling und Tausch zu beschäftigen. Die Schirmherrin der Ausstellung\, Vivienne Westwood ist mit einer Sonderstation vertreten. \nNeben der Ausstellung gibt es ein umfangreiches Begleitprogramm im Museum und an anderen Orten der Stadt wie Vorträge\, Workshops und gesellschaftspolitische Diskussionsveranstaltungen rund um das Thema Mode. Nähere Informationen im gesonderten Flyer oder unter www.useless-ausstellung.de \nVorherige Anmeldung unter Tel.168-46487 oder birte.heier@hannover-stadt.de erforderlich! \nTreffpunkt: am Museum\, Trammplatz 3 \nTeilnahmebeitrag: kostenlos \nTermin 1: Freitag 11.2.        16 Uhr\nTermin 2: Freitag 25.2.        16 Uhr
URL:https://www.kulturtreffbothfeld.de/events/use-less/
CATEGORIES:Programm,StadteilKULTUR-NATURverbunden,Veranstaltungen
END:VEVENT
END:VCALENDAR