BEGIN:VCALENDAR
VERSION:2.0
PRODID:-//Kulturtreff Bothfeld - ECPv6.15.20//NONSGML v1.0//EN
CALSCALE:GREGORIAN
METHOD:PUBLISH
X-WR-CALNAME:Kulturtreff Bothfeld
X-ORIGINAL-URL:https://www.kulturtreffbothfeld.de
X-WR-CALDESC:Veranstaltungen für Kulturtreff Bothfeld
REFRESH-INTERVAL;VALUE=DURATION:PT1H
X-Robots-Tag:noindex
X-PUBLISHED-TTL:PT1H
BEGIN:VTIMEZONE
TZID:Europe/Berlin
BEGIN:DAYLIGHT
TZOFFSETFROM:+0100
TZOFFSETTO:+0200
TZNAME:CEST
DTSTART:20210328T010000
END:DAYLIGHT
BEGIN:STANDARD
TZOFFSETFROM:+0200
TZOFFSETTO:+0100
TZNAME:CET
DTSTART:20211031T010000
END:STANDARD
BEGIN:DAYLIGHT
TZOFFSETFROM:+0100
TZOFFSETTO:+0200
TZNAME:CEST
DTSTART:20220327T010000
END:DAYLIGHT
BEGIN:STANDARD
TZOFFSETFROM:+0200
TZOFFSETTO:+0100
TZNAME:CET
DTSTART:20221030T010000
END:STANDARD
BEGIN:DAYLIGHT
TZOFFSETFROM:+0100
TZOFFSETTO:+0200
TZNAME:CEST
DTSTART:20230326T010000
END:DAYLIGHT
BEGIN:STANDARD
TZOFFSETFROM:+0200
TZOFFSETTO:+0100
TZNAME:CET
DTSTART:20231029T010000
END:STANDARD
END:VTIMEZONE
BEGIN:VEVENT
DTSTART;TZID=Europe/Berlin:20221006T123000
DTEND;TZID=Europe/Berlin:20221006T130000
DTSTAMP:20260425T172935
CREATED:20220714T075943Z
LAST-MODIFIED:20220720T083015Z
UID:9093-1665059400-1665061200@www.kulturtreffbothfeld.de
SUMMARY:MittagsMusik: „Brudy & Bernsmann“ (Pedal Steel und E-Gitarre)
DESCRIPTION:„MittagsMusik“ – kleine Konzerte zur Mittagszeit\nIn unserer Reihe „MittagsMusik“ bieten wir Ihnen auf unserer grünen\, lauschigen Innenhof-Terrasse wieder feine Konzerthäppchen „für zwischendurch“.\nHannover ist „Unesco City of Music“ und wir leisten einen kleinen Beitrag\, diesen Ehrentitel mit Leben zu füllen. Ob Sie auf dem Weg zum Einkauf sind\, Ihre Büro-Mittagspause einmal anders verbringen möchten oder ganz gezielt ein kleines Konzert erleben wollen – hier können Sie Ihren Ohren etwas Gutes gönnen!\nDie Konzerte finden draußen statt – bitte an wettergemäße Kleidung denken!\nDer Eintritt ist frei\, um eine angemessene Spende wird gebeten.\nUm vorherige Anmeldung wird gebeten. \nDonnerstag\, 6.10:\nAls „The Brudy Ensemble“ haben sie kürzlich ein Album im Sextett veröffentlicht\, nach Bothfeld kommen Lars Bernsmann und Karsten Brudy im Duo mit ihrer Version von Western Swing\, Straight Ahead Jazz und Ausflügen nach Hawaii. Mit exotischer Besetzung (Pedal Steel Gitarre und E-Gitarre) wird eine mitreisende Mischung aus virtuosen Gitarrenarrangements im Wechsel mit träumerisch schwebenden Slidepassagen präsentiert – Urlaubsfeeling ist vorprogrammiert.
URL:https://www.kulturtreffbothfeld.de/events/mittagsmusik-brudy-bernsmann-pedal-steel-und-e-gitarre/
CATEGORIES:Einzelveranstaltungen,MittagsMusik,Programm,Veranstaltungen
END:VEVENT
BEGIN:VEVENT
DTSTART;TZID=Europe/Berlin:20221011T150000
DTEND;TZID=Europe/Berlin:20221011T170000
DTSTAMP:20260425T172935
CREATED:20220718T084842Z
LAST-MODIFIED:20220718T084842Z
UID:9135-1665500400-1665507600@www.kulturtreffbothfeld.de
SUMMARY:Erzählcafé für Senior*innen
DESCRIPTION:Der Kulturtreff lädt zum Erzählcafé ein. In gemütlicher Atmosphäre wollen wir zuhören und erzählen\, Erinnerungen\, Erlebnisse\, Gedanken und Erfahrungen teilen und kennenlernen. Herzlich willkommen! \nGesprächsthema am 11.10.: bei Redaktionsschluss noch offen\nVorherige Anmeldung im Kulturtreff erforderlich! \nRenate Klute
URL:https://www.kulturtreffbothfeld.de/events/erzaehlcafe-fuer-seniorinnen-6/
CATEGORIES:Einzelveranstaltungen,Kaffeezeit für SeniorInnen,Programm,Veranstaltungen
END:VEVENT
BEGIN:VEVENT
DTSTART;TZID=Europe/Berlin:20221013T180000
DTEND;TZID=Europe/Berlin:20221013T193000
DTSTAMP:20260425T172935
CREATED:20220714T074922Z
LAST-MODIFIED:20220721T092804Z
UID:9084-1665684000-1665689400@www.kulturtreffbothfeld.de
SUMMARY:KulturHäppchen - Menü 2
DESCRIPTION:KULTUR NORDOST – “KulturHäppchen”\nDie KNO-Menü-Karte bietet eine feine Auswahl von schmackhaften KulturHäppchen\, begleitet von kulinarischen Kleinigkeiten. Die ausgewählten KNO-Menüs können in den drei Stadtteilen Bothfeld\, Sahlkamp und Vahrenheide genossen werden. Der Hauptgang ist dabei selbstverständlich das kulturelle Highlight. Die drei beteiligten Stadtteilkultureinrichtungen sind bei jedem Menü mit einem anderen Part vertreten. \nDonnerstag 13.10. Oktober 18:00 Uhr – Ort: Kulturtreff Vahrenheide \nMenü 2 „Wundertüte“ – Improvisationstheater mit den „Spielweibern“ im Kulturtreff Vahrenheide\n\nDie Spielweiber Patricia Harlos & Dorit David improvisieren Szenen\, Ratespiele\, Gedichte\, Märchen… oft mit tatkräftiger Unterstützung aus dem Publikum. Was genau auf der Bühne passiert\, weiß man vorher nie. Sie lassen sich doch auch gerne überraschen\, oder? \nKarten gibt es ab September im Kulturtreff Bothfeld und in den beiden anderen Stadtteilkultureinrichtungen.\nKosten: „KNO Menü-Karte“ für alle drei Menüs 20\,- €; für zwei Menüs 15\,- €; für ein Menü 8\,- € \nKNO dankt dem Stadtbezirksrat Bothfeld-Vahrenheide für die finanzielle Unterstützung der Veranstaltungsreihe.
URL:https://www.kulturtreffbothfeld.de/events/kulturhaeppchen-menue-2/
CATEGORIES:Einzelveranstaltungen,KNO-KulturHäppchen,Programm,Veranstaltungen
END:VEVENT
BEGIN:VEVENT
DTSTART;TZID=Europe/Berlin:20221014T183000
DTEND;TZID=Europe/Berlin:20221014T200000
DTSTAMP:20260425T172935
CREATED:20220718T084233Z
LAST-MODIFIED:20220718T084400Z
UID:9126-1665772200-1665777600@www.kulturtreffbothfeld.de
SUMMARY:"Unterwegs mit der Schildkröte Eumaphrasia"
DESCRIPTION:Lesung mit musikalischer Begleitung und Ausstellung \nWas passiert\, wenn man eines Abends einer 180jährigen Schildkröte begegnet? Man lernt etwas über Langsamkeit und die Schönheit der Augenblicke…\nDie Schriftstellerin Gyde Callesen liest aus ihrem neu erschienenen Buch ‘Unterwegs mit der Schildkröte Eumaphrasia’\, begleitet von Monika Herrmann am Cello. Dinah Nelke stellt die Original-Illustrationen zum Buch aus.\nEine Veranstaltung für Erwachsene und Kinder\, die bereit sind\, für das Abenteuer langsam zu werden.\nMit: Gyde Callesen/Monika Herrmann/Dinah Nelke\nTeilnahmebeitrag:10\,-/erm. 8\,- €\nEine Veranstaltung im Rahmen des WortLaut-Festivals 2021. Alle Informationen und das ganze Programm unter www.wortlaut-hannover.de \nIn Kooperation mit der LHH – Bereich Stadtteilkultur/Kulturelle Erwachsenenbildung
URL:https://www.kulturtreffbothfeld.de/events/unterwegs-mit-der-schildkroete-eumaphrasia/
CATEGORIES:Einzelveranstaltungen,Programm,Veranstaltungen
END:VEVENT
END:VCALENDAR