BEGIN:VCALENDAR
VERSION:2.0
PRODID:-//Kulturtreff Bothfeld - ECPv6.15.20//NONSGML v1.0//EN
CALSCALE:GREGORIAN
METHOD:PUBLISH
X-ORIGINAL-URL:https://www.kulturtreffbothfeld.de
X-WR-CALDESC:Veranstaltungen für Kulturtreff Bothfeld
REFRESH-INTERVAL;VALUE=DURATION:PT1H
X-Robots-Tag:noindex
X-PUBLISHED-TTL:PT1H
BEGIN:VTIMEZONE
TZID:Europe/Berlin
BEGIN:DAYLIGHT
TZOFFSETFROM:+0100
TZOFFSETTO:+0200
TZNAME:CEST
DTSTART:20210328T010000
END:DAYLIGHT
BEGIN:STANDARD
TZOFFSETFROM:+0200
TZOFFSETTO:+0100
TZNAME:CET
DTSTART:20211031T010000
END:STANDARD
BEGIN:DAYLIGHT
TZOFFSETFROM:+0100
TZOFFSETTO:+0200
TZNAME:CEST
DTSTART:20220327T010000
END:DAYLIGHT
BEGIN:STANDARD
TZOFFSETFROM:+0200
TZOFFSETTO:+0100
TZNAME:CET
DTSTART:20221030T010000
END:STANDARD
BEGIN:DAYLIGHT
TZOFFSETFROM:+0100
TZOFFSETTO:+0200
TZNAME:CEST
DTSTART:20230326T010000
END:DAYLIGHT
BEGIN:STANDARD
TZOFFSETFROM:+0200
TZOFFSETTO:+0100
TZNAME:CET
DTSTART:20231029T010000
END:STANDARD
END:VTIMEZONE
BEGIN:VEVENT
DTSTART;TZID=Europe/Berlin:20221203T140000
DTEND;TZID=Europe/Berlin:20221203T190000
DTSTAMP:20260425T144056
CREATED:20221013T082127Z
LAST-MODIFIED:20221013T082127Z
UID:9951-1670076000-1670094000@www.kulturtreffbothfeld.de
SUMMARY:Bothfelder Weihnachtsmarkt
DESCRIPTION:– Rund um die St. Nicolai-Kirche und am Rohdenhof– \nAlle großen und kleinen Bothfelder*innen sind eingeladen\, wieder die besondere Weihnachtsmarkt-Atmosphäre rund um St. Nicolai-Kirche und Rohdenhof zu genießen. Neben kunsthandwerklichen Ständen\, Glühwein und Leckereien können Sie den Klängen des Posaunenchors lauschen sowie das Programm in der St.-Nicolai-Kirche besuchen. \nAuf die Kleinen wartet ein Karussell und natürlich wird an diesem Tag auch der Nikolaus vorbeischauen! \nDer Bothfelder Weihnachtsmarkt ist eine gemeinsame Aktion der St. Nicolai-Kirche\, der Gemeinschaft Bothfelder Kaufleute und des Kulturtreffs Bothfeld. \nHinweis: Je nach Pandemiesituation gelten die am Veranstaltungstag gültigen Regelungen.
URL:https://www.kulturtreffbothfeld.de/events/bothfelder-weihnachtsmarkt/
CATEGORIES:Einzelveranstaltungen,Programm,Veranstaltungen
END:VEVENT
BEGIN:VEVENT
DTSTART;TZID=Europe/Berlin:20221207T103000
DTEND;TZID=Europe/Berlin:20221207T113000
DTSTAMP:20260425T144056
CREATED:20221013T090845Z
LAST-MODIFIED:20221128T102611Z
UID:9963-1670409000-1670412600@www.kulturtreffbothfeld.de
SUMMARY:Kindertheater: "Tomte Tummetott"
DESCRIPTION:Figurentheater Pantaleon (München): Tomte Tummetott \nDie Vorstellung ist leider bereits ausverkauft! \nAb 4 Jahren \nDauer: ca. 45 Minuten \nEintritt: 5\,- € \nVorherige Anmeldung im Kulturtreff für Gruppen und Einzelpersonen erforderlich!\n In Zusammenarbeit mit der Landeshauptstadt Hannover\, Fachbereich Kultur\, Stadtteilkultur.
URL:https://www.kulturtreffbothfeld.de/events/kindertheater-tomte-tummetott/
CATEGORIES:Einzelveranstaltungen,Programm,Veranstaltungen
END:VEVENT
BEGIN:VEVENT
DTSTART;TZID=Europe/Berlin:20221216T190000
DTEND;TZID=Europe/Berlin:20221216T200000
DTSTAMP:20260425T144056
CREATED:20221013T082253Z
LAST-MODIFIED:20221013T082349Z
UID:9953-1671217200-1671220800@www.kulturtreffbothfeld.de
SUMMARY:Märchenerzählabend
DESCRIPTION:Winterprogramm 2022: „Wohin gehst Du?“\nVoller Sehnsucht und Hoffnung machen sie sich auf den Weg\, ein Weg\, der manchmal in die Irre führt und auf dem nicht selten Hindernisse liegen. Was suchen die Märchenhelden\, die Märchenheldinnen? Was hoffen sie zu finden?\nReisen Sie mit\, wenn die Märchen – und Geschichtenerzählerinnen Elke Lange\, Sabine Müller und Heiderose Schweikart Geschichten zum Schmunzeln\, Träumen\, Nachdenken oder Staunen präsentieren und Sie in Zeiten und Welten entführen\, in denen das Wünschen noch geholfen hat. \nGegen Spende vor Ort. \nVorherige Anmeldung erforderlich.
URL:https://www.kulturtreffbothfeld.de/events/maerchenerzaehlabend/
CATEGORIES:Einzelveranstaltungen,Programm,Veranstaltungen
END:VEVENT
END:VCALENDAR