BEGIN:VCALENDAR
VERSION:2.0
PRODID:-//Kulturtreff Bothfeld - ECPv6.15.20//NONSGML v1.0//EN
CALSCALE:GREGORIAN
METHOD:PUBLISH
X-WR-CALNAME:Kulturtreff Bothfeld
X-ORIGINAL-URL:https://www.kulturtreffbothfeld.de
X-WR-CALDESC:Veranstaltungen für Kulturtreff Bothfeld
REFRESH-INTERVAL;VALUE=DURATION:PT1H
X-Robots-Tag:noindex
X-PUBLISHED-TTL:PT1H
BEGIN:VTIMEZONE
TZID:Europe/Berlin
BEGIN:DAYLIGHT
TZOFFSETFROM:+0100
TZOFFSETTO:+0200
TZNAME:CEST
DTSTART:20220327T010000
END:DAYLIGHT
BEGIN:STANDARD
TZOFFSETFROM:+0200
TZOFFSETTO:+0100
TZNAME:CET
DTSTART:20221030T010000
END:STANDARD
BEGIN:DAYLIGHT
TZOFFSETFROM:+0100
TZOFFSETTO:+0200
TZNAME:CEST
DTSTART:20230326T010000
END:DAYLIGHT
BEGIN:STANDARD
TZOFFSETFROM:+0200
TZOFFSETTO:+0100
TZNAME:CET
DTSTART:20231029T010000
END:STANDARD
BEGIN:DAYLIGHT
TZOFFSETFROM:+0100
TZOFFSETTO:+0200
TZNAME:CEST
DTSTART:20240331T010000
END:DAYLIGHT
BEGIN:STANDARD
TZOFFSETFROM:+0200
TZOFFSETTO:+0100
TZNAME:CET
DTSTART:20241027T010000
END:STANDARD
END:VTIMEZONE
BEGIN:VEVENT
DTSTART;TZID=Europe/Berlin:20230808T090000
DTEND;TZID=Europe/Berlin:20230808T140000
DTSTAMP:20260425T035118
CREATED:20230705T062018Z
LAST-MODIFIED:20230705T062223Z
UID:10532-1691485200-1691503200@www.kulturtreffbothfeld.de
SUMMARY:"Luftsprünge": Stuhlbau-Workshop
DESCRIPTION:Lust auf Werken mit Holz? Hier kannst du dir deinen eigenen Holzstuhl bauen! In diesem zweitägigen Workshop wird geleimt\, gehämmert (oder geschraubt?)\, gesägt\, geschliffen und gemalt… Deinen “Rudi” darfst du mit nach Hause nehmen.  Warum er so heißt\, erfährst du vom Erfinder des Stuhles selbst.\nBitte etwas zu Essen und zu Trinken für die Pause mitbringen. \nWann? Di\, 8.8 und Mi\, 9.8. \, jeweils 9.00 – 14.00 Uhr\nAnleitung: Simon Kux\nAlter: 12 – 14 Jahre\nOrt: Lesegarten der Stadtteilbibliothek\, Hintzehof 9\nKosten: 8\,- € / mit Feriencard 6.- € / mit HannoverAktivPass: kostenlos\nAnmeldung im Kulturtreff bis zum 31.07.  erforderlich!\n\nIn Kooperation mit der Stadtteilbibliothek Bothfeld.
URL:https://www.kulturtreffbothfeld.de/events/luftspruenge-stuhlbau-workshop/
CATEGORIES:Kinder,Programm,Veranstaltungen
END:VEVENT
BEGIN:VEVENT
DTSTART;TZID=Europe/Berlin:20230818T093000
DTEND;TZID=Europe/Berlin:20230818T170000
DTSTAMP:20260425T035118
CREATED:20230731T101743Z
LAST-MODIFIED:20230731T101743Z
UID:10590-1692351000-1692378000@www.kulturtreffbothfeld.de
SUMMARY:Wandern mit Kulturgenuss
DESCRIPTION:Wir fahren mit dem Zug nach Derneburg. Von dort wandern wir über eine Strecke von ca. 10 km vorbei an Feldern und Wiesen bergauf in bewaldetes Gebiet. Nach einem Mittagspicknick\, für das jede*r selber etwas einpackt\, beenden wir unsere Wanderung mit einer Führung über den 2\,5 km langen Laves-Kulturpfad rund um das Schloss Derneburg\, durch den ehemaligen Garten des Grafen zu Münsters und seines Baumeister G.L.F. Laves.\nZum Abschluss kehren wir gegen 14.30 Uhr zu Kaffee und Kuchen in das Café im Glashaus ein\, einem ehemaligen Gewächshaus der Schlossgärtnerei. \nKosten für Führung\, Kaffee und ein Stück Kuchen: 12\,00 Euro. Wer ein Ticket für die Fahrt benötigt\, kann dieses für max. 25 Euro mitbuchen. \nAnmeldung bis zum 10. August erforderlich. \nTreffpunkt: 09.30 Uhr am Infotresen im Hauptbahnhof. Festes Schuhwerk erforderlich! \nEine Veranstaltung verschiedener Kulturtreffs
URL:https://www.kulturtreffbothfeld.de/events/wandern-mit-kulturgenuss/
CATEGORIES:Einzelveranstaltungen,Programm,Veranstaltungen
END:VEVENT
BEGIN:VEVENT
DTSTART;TZID=Europe/Berlin:20230825T173000
DTEND;TZID=Europe/Berlin:20230825T203000
DTSTAMP:20260425T035118
CREATED:20230731T101842Z
LAST-MODIFIED:20230803T065950Z
UID:10592-1692984600-1692995400@www.kulturtreffbothfeld.de
SUMMARY:Sommerfest
DESCRIPTION:Sommerfest im Kulturtreff: „Kleine Auszeit“\nDen Feierabend genießen\, das Wochenende begrüßen\, mit bekannten und neuen Menschen einen hoffentlich lauschigen Abend verbringen: auf unserer Terrasse\, im grünen Innenhof und in den Räumen des Kulturtreffs erwarten wir Sie zu einem fröhlichen Beisammensein. Bei kleinen Leckereien und Getränken können Sie dem Shantychor „De Leineschippers“ lauschen und die polnische Tanzgruppe „Polonia“ bewundern. Schauen Sie doch einfach vorbei!
URL:https://www.kulturtreffbothfeld.de/events/sommerfest/
CATEGORIES:Einzelveranstaltungen,Programm,Veranstaltungen
END:VEVENT
BEGIN:VEVENT
DTSTART;TZID=Europe/Berlin:20230830T163000
DTEND;TZID=Europe/Berlin:20230830T173000
DTSTAMP:20260425T035118
CREATED:20230731T102032Z
LAST-MODIFIED:20230731T102032Z
UID:10594-1693413000-1693416600@www.kulturtreffbothfeld.de
SUMMARY:Eselsohren – Erlebnisse am Bücherschrank: Upcyling mit Papier und Buch
DESCRIPTION:Von Asimov über Lindgren und Süßkind bis zu Zola –  die offenen Bücherschränke sind immer für eine literarische Überraschung gut. Aber können unsere Bücherschränke auch noch mehr? Was können wir mit Büchern machen\, die niemand mehr möchte? Mit vielfältigen Aktionen an den Bücherschränken wollen wir uns diesen und weiteren Fragen stellen und gemeinsam kreativ werden.\nEine Veranstaltungsreihe der Stadtteilkultur Hannover. \nUpcyling mit Papier und Buch\nGert Schmidt von der Bauteilbörse Hannover zeigt uns\, wie man mit einer Papierstanze und ein bisschen Leim aus alten Flyern oder Büchern neue Objekte herstellen kann. So entstehen kleine dekorative Elemente\, die sich auch in Schmuck verwandeln lassen. Passenderweise lässt sich anschließend dieser Schmuck in einer selbstgebastelten Kiste aus einem alten Buch verstauen. \nOrt: Bücherschrank Kurze-Kamp-Str.\, vor der Heilig-Geist-Kirche \nKostenfrei und ohne Anmeldung. Bei starkem Regen oder Gewitter findet die Veranstaltung nicht statt.
URL:https://www.kulturtreffbothfeld.de/events/eselsohren-erlebnisse-am-buecherschrank-upcyling-mit-papier-und-buch/
CATEGORIES:Einzelveranstaltungen,Programm,Veranstaltungen
END:VEVENT
BEGIN:VEVENT
DTSTART;TZID=Europe/Berlin:20230831T123000
DTEND;TZID=Europe/Berlin:20230831T130000
DTSTAMP:20260425T035118
CREATED:20230801T071553Z
LAST-MODIFIED:20230815T073129Z
UID:10630-1693485000-1693486800@www.kulturtreffbothfeld.de
SUMMARY:MittagsMusik: Arina Tara
DESCRIPTION:„MittagsMusik“ – kleine Konzerte zur Mittagszeit\nIn unserer Reihe „MittagsMusik“ bieten wir Ihnen auf unserer grünen\, lauschigen Innenhof-Terrasse wieder feine Konzerthäppchen „für zwischendurch“.\nDie Konzerte finden draußen statt – bei sehr schlechtem Wetter ausnahmsweise auch drin!\nDer Eintritt ist frei\, um eine angemessene Spende wird gebeten.\nUm vorherige Anmeldung wird gebeten. \nDonnerstag\, 31.08.: Arina Tara\nArina Tara singt ruhig und beseelt\, verliert und findet sich in ihrer Stimme\, schreibt und erzählt Geschichten in verschieden Sprachen und lädt ein zum Zuhören.\nNach ihrem ersten Solo-Auftritt mit 16 Jahren durfte sie schon oft mit verschiedenen Menschen\, internationalen Bands\, mit unterschiedlichen Projekten und Chören eine Bühne teilen. Ende 2015 beendete sie ihr Studium in Popmusikdesign an der Popakademie in Mannheim und wohnt seitdem wieder in ihrer Heimatstadt Hannover\, um dort weiter als Solo-Künstlerin\, Sängerin\, Sounddesignerin und Musikproduzentin Musik zu machen.
URL:https://www.kulturtreffbothfeld.de/events/mittagsmusik-diana-koval/
CATEGORIES:Einzelveranstaltungen,MittagsMusik,Programm,Veranstaltungen
END:VEVENT
END:VCALENDAR