BEGIN:VCALENDAR
VERSION:2.0
PRODID:-//Kulturtreff Bothfeld - ECPv6.15.20//NONSGML v1.0//EN
CALSCALE:GREGORIAN
METHOD:PUBLISH
X-ORIGINAL-URL:https://www.kulturtreffbothfeld.de
X-WR-CALDESC:Veranstaltungen für Kulturtreff Bothfeld
REFRESH-INTERVAL;VALUE=DURATION:PT1H
X-Robots-Tag:noindex
X-PUBLISHED-TTL:PT1H
BEGIN:VTIMEZONE
TZID:Europe/Berlin
BEGIN:DAYLIGHT
TZOFFSETFROM:+0100
TZOFFSETTO:+0200
TZNAME:CEST
DTSTART:20230326T010000
END:DAYLIGHT
BEGIN:STANDARD
TZOFFSETFROM:+0200
TZOFFSETTO:+0100
TZNAME:CET
DTSTART:20231029T010000
END:STANDARD
BEGIN:DAYLIGHT
TZOFFSETFROM:+0100
TZOFFSETTO:+0200
TZNAME:CEST
DTSTART:20240331T010000
END:DAYLIGHT
BEGIN:STANDARD
TZOFFSETFROM:+0200
TZOFFSETTO:+0100
TZNAME:CET
DTSTART:20241027T010000
END:STANDARD
BEGIN:DAYLIGHT
TZOFFSETFROM:+0100
TZOFFSETTO:+0200
TZNAME:CEST
DTSTART:20250330T010000
END:DAYLIGHT
BEGIN:STANDARD
TZOFFSETFROM:+0200
TZOFFSETTO:+0100
TZNAME:CET
DTSTART:20251026T010000
END:STANDARD
END:VTIMEZONE
BEGIN:VEVENT
DTSTART;TZID=Europe/Berlin:20240409T150000
DTEND;TZID=Europe/Berlin:20240409T170000
DTSTAMP:20260424T152832
CREATED:20240408T062409Z
LAST-MODIFIED:20240408T062409Z
UID:11089-1712674800-1712682000@www.kulturtreffbothfeld.de
SUMMARY:Kaffeezeit mit Klönschnack und mehr
DESCRIPTION:Eine Möglichkeit\, um neue Menschen und alte Bekannte im Stadtteil zu treffen und zwei gesellige Stunden bei Kaffee/Tee\, Kuchen oder frischgebackenen Waffeln zu verbringen. Ein kleines Überraschungsangebot wird auch nicht fehlen: mal kreativ\, mal bewegend\, mal musikalisch\, mal nachdenklich\, mal was ganz Anderes… Seien Sie neugierig. Kommen Sie vorbei. Herzlich willkommen!\nUm vorherige Anmeldung wird gebeten\, damit wir kalkulieren können.
URL:https://www.kulturtreffbothfeld.de/events/kaffeezeit-mit-kloenschnack-und-mehr-8/
CATEGORIES:Einzelveranstaltungen,Kaffeezeit für SeniorInnen,Programm,Veranstaltungen
END:VEVENT
BEGIN:VEVENT
DTSTART;TZID=Europe/Berlin:20240416T190000
DTEND;TZID=Europe/Berlin:20240416T210000
DTSTAMP:20260424T152832
CREATED:20240416T150105Z
LAST-MODIFIED:20240416T150105Z
UID:11103-1713294000-1713301200@www.kulturtreffbothfeld.de
SUMMARY:Multivisionsvortrag: Frankreich
DESCRIPTION:In diesem Vortrag offenbaren sich die „in­neren Werte“ der Grande Nation. Er leitet Sie durch das Herz des Landes und lässt bedeu­tende Orte entde­cken\, denn Frankreich hat auch abseits von Mittelmeer und Atlantikküste viel zu bieten.\nDie Reise beginnt im Norden\, in Ver­dun\, führt in das Massif Central\, wo an vielen Orten das Mittelalter erhalten geblieben ist und weiter zu den an­tiken Resten der Römerherrschaft in Orange. Naturwunder säumen den Weg in die Pyrenäen\, wo Sie u.a. die Dame Carcas kennenler­nen. Zurück an der Küste entlang führt der Weg in die Carmargue\, zu den Kalkfelsen von Cassis und in die Pro­vence\, gerade rechtzei­tig zur Lavendelbüte. Durch die Seealpen und die Schweiz geht es zurück.\nUwe Grund\nAnmeldung erbeten. Eintritt frei\, um eine angemessene Spende wird gebeten.
URL:https://www.kulturtreffbothfeld.de/events/multivisionsvortrag-frankreich/
CATEGORIES:Einzelveranstaltungen,Programm,Veranstaltungen
END:VEVENT
BEGIN:VEVENT
DTSTART;TZID=Europe/Berlin:20240423T180000
DTEND;TZID=Europe/Berlin:20240423T200000
DTSTAMP:20260424T152832
CREATED:20240330T092839Z
LAST-MODIFIED:20240306T093031Z
UID:11009-1713895200-1713902400@www.kulturtreffbothfeld.de
SUMMARY:Infoabend Solidarische Landwirtschaft
DESCRIPTION:Gesunde Ernährung –  was bedeutet dies für mich und welche Rolle spielen die Landwirte dabei?\nAm Bespiel der solidarischen Landwirtschaft vom Gut Adolphshof aus Lehrte/Hämelerwald wird an diesem Abend auf die Bedeutung der ökologischen Landwirtschaft eingegangen. Themen sind Erhaltung der Bodenqualität\, Artenvielfalt\, Mikroorganismen sowie lokale und saisonale Versorgung mit Lebensmitteln. Es bleibt auch Zeit für Fragen und zum Austausch.\nWerner Könecke (Mitglied solidarische Landwirtschaft Adolphshof)\nAnmeldung erbeten.\nEintritt frei\, Spende vor Ort möglich.
URL:https://www.kulturtreffbothfeld.de/events/infoabend-solidarische-landwirtschaft/
CATEGORIES:Einzelveranstaltungen,Programm,StadteilKULTUR-NATURverbunden,Veranstaltungen
END:VEVENT
END:VCALENDAR