BEGIN:VCALENDAR
VERSION:2.0
PRODID:-//Kulturtreff Bothfeld - ECPv6.15.20//NONSGML v1.0//EN
CALSCALE:GREGORIAN
METHOD:PUBLISH
X-WR-CALNAME:Kulturtreff Bothfeld
X-ORIGINAL-URL:https://www.kulturtreffbothfeld.de
X-WR-CALDESC:Veranstaltungen für Kulturtreff Bothfeld
REFRESH-INTERVAL;VALUE=DURATION:PT1H
X-Robots-Tag:noindex
X-PUBLISHED-TTL:PT1H
BEGIN:VTIMEZONE
TZID:Europe/Berlin
BEGIN:DAYLIGHT
TZOFFSETFROM:+0100
TZOFFSETTO:+0200
TZNAME:CEST
DTSTART:20230326T010000
END:DAYLIGHT
BEGIN:STANDARD
TZOFFSETFROM:+0200
TZOFFSETTO:+0100
TZNAME:CET
DTSTART:20231029T010000
END:STANDARD
BEGIN:DAYLIGHT
TZOFFSETFROM:+0100
TZOFFSETTO:+0200
TZNAME:CEST
DTSTART:20240331T010000
END:DAYLIGHT
BEGIN:STANDARD
TZOFFSETFROM:+0200
TZOFFSETTO:+0100
TZNAME:CET
DTSTART:20241027T010000
END:STANDARD
BEGIN:DAYLIGHT
TZOFFSETFROM:+0100
TZOFFSETTO:+0200
TZNAME:CEST
DTSTART:20250330T010000
END:DAYLIGHT
BEGIN:STANDARD
TZOFFSETFROM:+0200
TZOFFSETTO:+0100
TZNAME:CET
DTSTART:20251026T010000
END:STANDARD
END:VTIMEZONE
BEGIN:VEVENT
DTSTART;TZID=Europe/Berlin:20240602T150000
DTEND;TZID=Europe/Berlin:20240602T173000
DTSTAMP:20260424T120056
CREATED:20240330T100432Z
LAST-MODIFIED:20240306T100539Z
UID:11031-1717340400-1717349400@www.kulturtreffbothfeld.de
SUMMARY:Griechischer Tanz – Schnupper-Workshop
DESCRIPTION:Heute haben Sie die Möglichkeit\, verschiedene Volkstänze aus Griechenland auszuprobieren. Getanzt wird gemeinsam im Kreis. Das macht Spaß\, verbindet die Gruppe und lockert den Körper. Vorkenntnisse sind nicht notwendig\, jede*r kann mitmachen! Bitte bequeme Kleidung tragen\, Turnschuhe und etwas zu trinken mitbringen.\nLeitung: Kalliopi Filippou\nTeilnahmegebühr: 10\,-€ /erm. 8.-€\nVorherige Anmeldung und Bezahlung erforderlich.
URL:https://www.kulturtreffbothfeld.de/events/griechischer-tanz-schnupper-workshop/
CATEGORIES:Einzelveranstaltungen,Programm,Veranstaltungen
END:VEVENT
BEGIN:VEVENT
DTSTART;TZID=Europe/Berlin:20240604T150000
DTEND;TZID=Europe/Berlin:20240604T170000
DTSTAMP:20260424T120056
CREATED:20240408T062632Z
LAST-MODIFIED:20240408T062632Z
UID:11094-1717513200-1717520400@www.kulturtreffbothfeld.de
SUMMARY:Kaffeezeit mit Klönschnack und mehr
DESCRIPTION:Eine Möglichkeit\, um neue Menschen und alte Bekannte im Stadtteil zu treffen und zwei gesellige Stunden bei Kaffee/Tee\, Kuchen oder frischgebackenen Waffeln zu verbringen. Ein kleines Überraschungsangebot wird auch nicht fehlen: mal kreativ\, mal bewegend\, mal musikalisch\, mal nachdenklich\, mal was ganz Anderes… Seien Sie neugierig. Kommen Sie vorbei. Herzlich willkommen!\nUm vorherige Anmeldung wird gebeten\, damit wir kalkulieren können.
URL:https://www.kulturtreffbothfeld.de/events/kaffeezeit-mit-kloenschnack-und-mehr-10/
CATEGORIES:Einzelveranstaltungen,Kaffeezeit für SeniorInnen,Programm,Veranstaltungen
END:VEVENT
BEGIN:VEVENT
DTSTART;TZID=Europe/Berlin:20240609T120000
DTEND;TZID=Europe/Berlin:20240609T180000
DTSTAMP:20260424T120056
CREATED:20240330T100600Z
LAST-MODIFIED:20240508T104343Z
UID:11033-1717934400-1717956000@www.kulturtreffbothfeld.de
SUMMARY:750 Jahre Bothfeld: Stadtteilfest auf dem Anger
DESCRIPTION:Bothfeld feiert: Anlässlich des 750-Jahre-Jubiläums wird es auf dem Bothfelder Anger – früher Moorkamp –  ein buntes Fest vieler Vereine\, Institutionen und Einrichtungen geben. Es erwartet Sie ein buntes Bühnenprogramm\, bestückt von Bothfelder Schulen\, Initativen und Kreativen\, und auch für das leibliche Wohl wird natürlich gesorgt sein. Das genaue Programm stand bei Redaktionsschluss noch nicht fest\, aber merken Sie sich den Tag unbedingt vor und schauen Sie vorbei!\nDas Fest findet statt mit Unterstützung des Bezirksrates Bothfeld-Vahrenheide-Sahlkamp.
URL:https://www.kulturtreffbothfeld.de/events/750-jahre-bothfeld-stadtteilfest-auf-dem-anger/
CATEGORIES:Einzelveranstaltungen,Programm,Veranstaltungen
END:VEVENT
BEGIN:VEVENT
DTSTART;TZID=Europe/Berlin:20240612T153000
DTEND;TZID=Europe/Berlin:20240612T170000
DTSTAMP:20260424T120056
CREATED:20240330T101652Z
LAST-MODIFIED:20240424T065645Z
UID:11035-1718206200-1718211600@www.kulturtreffbothfeld.de
SUMMARY:Sprengel Museum: MENSCH - MYTHOS – WELT (Zusatztermin s.u.)
DESCRIPTION:Achtung\, Zusatztermin am 15.5.\, 15.00 Uhr!\n(der 12.6. ist leider bereits ausgebucht)\n \nPablo Picasso und Max Beckmann haben mit ihren Werken den Blick auf die dramatische erste Hälfte des 20. Jahrhunderts geprägt wie kaum andere Kunstschaffende. Zudem haben sie entschieden dazu beigetragen\, die figürliche Malerei neu zu definieren. Die vielleicht bedeutendsten Maler und Schlüsselfiguren der Moderne\, die nun erstmals gemeinsam gezeigt werden\, haben den Ereignissen der Zeitgeschichte von zwei Weltkriegen\, von Diktaturen und Barbarismus Bilder gegeben\, die sich gleichwohl der Tagesaktualität entziehen und ihre Stoffe auf mythologischer\, menschheitsgeschichtlicher Ebene verhandeln.\nNach der ca. 60-minütigen Führung haben Sie die Gelegenheit\, noch eigenständig durch das Museum zu gehen.\nTeilnahmebeitrag: 10\,-/erm 8\,-€\nVorherige Anmeldung und Bezahlung im Kulturtreff erforderlich.\nTreffpunkt: Eingang Sprengelmuseum
URL:https://www.kulturtreffbothfeld.de/events/sprengel-museum-mensch-mythos-welt/
CATEGORIES:Einzelveranstaltungen,Programm,Veranstaltungen
END:VEVENT
BEGIN:VEVENT
DTSTART;TZID=Europe/Berlin:20240620T123000
DTEND;TZID=Europe/Berlin:20240620T130000
DTSTAMP:20260424T120056
CREATED:20240330T093704Z
LAST-MODIFIED:20240516T094437Z
UID:11019-1718886600-1718888400@www.kulturtreffbothfeld.de
SUMMARY:MittagsMusik: Duo "Latinesque"
DESCRIPTION:„MittagsMusik“ – kleine Konzerte zur Mittagszeit\nIn unserer Reihe „MittagsMusik“ bieten wir Ihnen auf unserer grünen\, lauschigen Innenhof-Terrasse wieder feine Konzerthäppchen „für zwischendurch“.\nDie Konzerte finden draußen statt – bei sehr schlechtem Wetter ausnahmsweise auch drin!\nDer Eintritt ist frei\, um eine angemessene Spende wird gebeten.\nUm vorherige Anmeldung wird gebeten. \nDonnerstag\, 20. Juni: Duo „Latinesque“ (Klavier + Gesang)\nDie allermeiste Musik wäre nicht so\, wie wir sie kennen\, wenn sie nicht von den Rhythmen und dem Lebensgefühl aus Lateinamerika bereichert worden wäre. Dies fassen Latinesque mit ihrem Programm aus Pop und Latin zusammen. Dabei gelingt es Bastian (Klavier) und Carolina (brasilianische Sängerin) mit sowohl englischen als auch portugiesischen und spanischen Texten das lateinamerikanische Lebensgefühl zu verkörpern. \n  \n 
URL:https://www.kulturtreffbothfeld.de/events/mittagsmusik-duo-latinesque/
CATEGORIES:Einzelveranstaltungen,MittagsMusik,Programm,Veranstaltungen
END:VEVENT
END:VCALENDAR