BEGIN:VCALENDAR
VERSION:2.0
PRODID:-//Kulturtreff Bothfeld - ECPv6.15.20//NONSGML v1.0//EN
CALSCALE:GREGORIAN
METHOD:PUBLISH
X-WR-CALNAME:Kulturtreff Bothfeld
X-ORIGINAL-URL:https://www.kulturtreffbothfeld.de
X-WR-CALDESC:Veranstaltungen für Kulturtreff Bothfeld
REFRESH-INTERVAL;VALUE=DURATION:PT1H
X-Robots-Tag:noindex
X-PUBLISHED-TTL:PT1H
BEGIN:VTIMEZONE
TZID:Europe/Berlin
BEGIN:DAYLIGHT
TZOFFSETFROM:+0100
TZOFFSETTO:+0200
TZNAME:CEST
DTSTART:20230326T010000
END:DAYLIGHT
BEGIN:STANDARD
TZOFFSETFROM:+0200
TZOFFSETTO:+0100
TZNAME:CET
DTSTART:20231029T010000
END:STANDARD
BEGIN:DAYLIGHT
TZOFFSETFROM:+0100
TZOFFSETTO:+0200
TZNAME:CEST
DTSTART:20240331T010000
END:DAYLIGHT
BEGIN:STANDARD
TZOFFSETFROM:+0200
TZOFFSETTO:+0100
TZNAME:CET
DTSTART:20241027T010000
END:STANDARD
BEGIN:DAYLIGHT
TZOFFSETFROM:+0100
TZOFFSETTO:+0200
TZNAME:CEST
DTSTART:20250330T010000
END:DAYLIGHT
BEGIN:STANDARD
TZOFFSETFROM:+0200
TZOFFSETTO:+0100
TZNAME:CET
DTSTART:20251026T010000
END:STANDARD
END:VTIMEZONE
BEGIN:VEVENT
DTSTART;TZID=Europe/Berlin:20240910T160000
DTEND;TZID=Europe/Berlin:20240910T180000
DTSTAMP:20260422T200628
CREATED:20240721T222323Z
LAST-MODIFIED:20240704T072335Z
UID:11291-1725984000-1725991200@www.kulturtreffbothfeld.de
SUMMARY:Essbare Wildpflanzen
DESCRIPTION:Essbare Wildpflanzen erkunden bei einem Spaziergang mit Anita Zechel\n\nSelbstversorgung mit essbaren Wildpflanzen – schon eine Handvoll Wildpflanzen täglich bereichert unseren Speiseplan. Sie wirken sich wohltuend auf unseren Körper aus. Wir bestimmen und erkennen die essbaren Wildpflanzen und Sie bekommen Tipps zur einfachen\, schnellen Verwendung dieser Pflanzen in der Küche.\nWussten Sie\, dass uns 12 Wildpflanzen das ganze Jahr begleiten?\nTreffpunkt:  Kulturtreff Bothfeld\nTeilnahmebeitrag: 7\,- €\nVorherige Anmeldung und Bezahlung erforderlich.
URL:https://www.kulturtreffbothfeld.de/events/essbare-wildpflanzen-5/
CATEGORIES:Einzelveranstaltungen,Programm,StadteilKULTUR-NATURverbunden,Veranstaltungen
END:VEVENT
BEGIN:VEVENT
DTSTART;TZID=Europe/Berlin:20240913T190000
DTEND;TZID=Europe/Berlin:20240913T203000
DTSTAMP:20260422T200628
CREATED:20240721T224336Z
LAST-MODIFIED:20240725T062135Z
UID:11294-1726254000-1726259400@www.kulturtreffbothfeld.de
SUMMARY:Eröffnungsfeier Bothfelder Kunstspaziergang
DESCRIPTION:Zum Auftakt des 9. Bothfelder Kunstspaziergangs laden wir Sie herzlich ein zu einer kleinen Eröffnungsfeier! In netter Atmosphäre und bei Getränken und kleinen Snacks können Sie sich entspannt auf das Kunstspaziergangs-Wochenende einstimmen.\nSchauen Sie vorbei und kommen mit den Künstlerinnen und Künstlern ins Gespräch. Verschaffen Sie sich einen Eindruck von der Überblicksausstellung\, in der alle Beteiligten mit je einem Werk vertreten sind. Lassen Sie sich inspirieren und planen schon einmal Ihre Route für Samstag und Sonntag.\nKostenlos\, Anmeldung erwünscht. \nWeitere Informationen zum Kunstspaziergangs-Wochenende finden Sie im Menü unter dem Extra-Button “Bothfelder Kunstspaziergang 2024”!
URL:https://www.kulturtreffbothfeld.de/events/eroeffnungsfeier-bothfelder-kunstspaziergang-2/
CATEGORIES:Einzelveranstaltungen,Programm,Veranstaltungen
END:VEVENT
BEGIN:VEVENT
DTSTART;TZID=Europe/Berlin:20240918T170000
DTEND;TZID=Europe/Berlin:20240918T180000
DTSTAMP:20260422T200628
CREATED:20240721T224542Z
LAST-MODIFIED:20240905T161917Z
UID:11296-1726678800-1726682400@www.kulturtreffbothfeld.de
SUMMARY:Blind Date Kultur
DESCRIPTION:Einfach mal hingehen – entdecken\, staunen\, genießen! Blind Date KULTUR ist wie eine Schachtel Pralinen\, man weiß nie\, was man bekommt… \nTreffpunkt: Haltestelle in den Sieben Stücken\, Stadtbahnlinie 3\nAchtung: die Veranstaltung ist ausgebucht. Ein Spontanbesuch ist leider nicht möglich. \nEine Initiative der Stadtteilkultureinrichtungen in Hannover
URL:https://www.kulturtreffbothfeld.de/events/blind-date-kultur-4/
CATEGORIES:Einzelveranstaltungen,Programm,Veranstaltungen
END:VEVENT
BEGIN:VEVENT
DTSTART;TZID=Europe/Berlin:20240924T150000
DTEND;TZID=Europe/Berlin:20240924T170000
DTSTAMP:20260422T200628
CREATED:20240721T225229Z
LAST-MODIFIED:20240704T072207Z
UID:11266-1727190000-1727197200@www.kulturtreffbothfeld.de
SUMMARY:Kaffeezeit mit Klönschnack und mehr
DESCRIPTION:Eine Möglichkeit\, um neue Menschen und alte Bekannte im Stadtteil zu treffen und zwei gesellige Stunden bei Kaffee/Tee\, Kuchen oder frischgebackenen Waffeln zu verbringen. Ein kleines Überraschungsangebot wird auch nicht fehlen: mal kreativ\, mal bewegend\, mal musikalisch\, mal nachdenklich\, mal was ganz Anderes… Seien Sie neugierig. Kommen Sie vorbei. Herzlich willkommen!\nUm vorherige Anmeldung wird gebeten\, damit wir kalkulieren können. \nAm 24.09. haben wir die Autorin Claudia Rimkus zum Kaffee und Klönschnack eingeladen.
URL:https://www.kulturtreffbothfeld.de/events/kaffeezeit-mit-kloenschnack-und-mehr-12/
CATEGORIES:Einzelveranstaltungen,Kaffeezeit für SeniorInnen,Programm,Veranstaltungen
END:VEVENT
BEGIN:VEVENT
DTSTART;TZID=Europe/Berlin:20240925T153000
DTEND;TZID=Europe/Berlin:20240925T173000
DTSTAMP:20260422T200628
CREATED:20240721T224730Z
LAST-MODIFIED:20240905T162351Z
UID:11298-1727278200-1727285400@www.kulturtreffbothfeld.de
SUMMARY:Führung: Frauen\, die sich trauen
DESCRIPTION:Achtung: aufgrund einer längerfristigen Erkrankung muss die Veranstaltung leider ausfallen! \nMutig werden und sein: Vor 100 Jahren wurden die deutschen Frauen politisch mündig\, sie durften wählen und konnten gewählt werden. Ada Lessing hatte den Mut\, sie bewarb sich um ein Reichstagsmandat. Wussten Sie\, dass die erste Person im Amt des Regierungspräsidenten in Hannover eine Frau war? Oder\, dass der Besitz einer Bibel einer getauften Jüdin im Konzentrationslager Halt bot? Auf diesem Stadtspaziergang stellen wir Frauen vor\, die sich mutig verschiedenen Widrigkeiten stellten.\nFührung mit Stattreisen Hannover e.V.\nTreffpunkt: Landtag Hannah-Arendt-Platz\, Endpunkt: Platz der Weltausstellung\nTeilnahmebeitrag: 9\,- € / HAP: 4\,50 €\nVorherige Anmeldung und Bezahlung im Kulturtreff erforderlich.
URL:https://www.kulturtreffbothfeld.de/events/fuehrung-frauen-die-sich-trauen/
CATEGORIES:Einzelveranstaltungen,Programm,Veranstaltungen
END:VEVENT
BEGIN:VEVENT
DTSTART;TZID=Europe/Berlin:20240926T123000
DTEND;TZID=Europe/Berlin:20240926T130000
DTSTAMP:20260422T200628
CREATED:20240701T100146Z
LAST-MODIFIED:20240701T100406Z
UID:11275-1727353800-1727355600@www.kulturtreffbothfeld.de
SUMMARY:MittagsMusik: Thomas Martin
DESCRIPTION:„MittagsMusik“ – kleine Konzerte zur Mittagszeit\nIn unserer Reihe „MittagsMusik“ bieten wir Ihnen auf unserer grünen\, lauschigen Innenhof-Terrasse wieder feine Konzerthäppchen „für zwischendurch“.\nDie Konzerte finden draußen statt – bei sehr schlechtem Wetter ausnahmsweise auch drin!\nDer Eintritt ist frei\, um eine angemessene Spende wird gebeten.\nUm vorherige Anmeldung wird gebeten. \nDonnerstag\, 26. September: Thomas Martin\nThomas Martin ist seit vielen Jahren als Singer/Songwriter solo\, im Trio und mit Band im In- und Ausland unterwegs. Als Solist interpretiert er mit Gesang\, Jazz-\, Western- und Lap-Steel-Gitarre eigene Songs sowie Jazz- und Bluesklassiker auf seine ganz eigene soulige Art. \n  \n 
URL:https://www.kulturtreffbothfeld.de/events/mittagsmusik-duo-latinesque-3/
CATEGORIES:Einzelveranstaltungen,MittagsMusik,Programm,Veranstaltungen
END:VEVENT
BEGIN:VEVENT
DTSTART;TZID=Europe/Berlin:20240930T190000
DTEND;TZID=Europe/Berlin:20240930T203000
DTSTAMP:20260422T200628
CREATED:20240721T224955Z
LAST-MODIFIED:20240926T061946Z
UID:11300-1727722800-1727728200@www.kulturtreffbothfeld.de
SUMMARY:Film: Romys Salon - Achtung: ausgebucht!
DESCRIPTION:Die zehnjährige Romy fühlt sich abgeschoben\, als ihre Mutter Margot einen Vollzeitjob annimmt und Romy nach der Schule in Omas Friseursalon „parkt“. Auch Oma Stine ist nicht begeistert\, sie ist streng und ordentlich und ein Kind stört nur bei der Arbeit. Doch dann ändert sich etwas: Stine vergisst auf einmal Dinge\, spricht plötzlich Dänisch und erzählt von ihrer Kindheit in Dänemark. Romy übernimmt immer mehr Aufgaben im Salon und unterstützt ihre Oma\, wo sie kann\, damit keiner etwas merkt. Bis zu dem Tag\, an dem Stine plötzlich im Nachthemd auf der Arbeit erscheint … Stine hat Alzheimer und soll nun in ein Pflegeheim. Doch Romy ist anderer Meinung und wird zur gewitzten Komplizin im Kampf um Freiheit und Würde für ihre Großmutter.\nEin berührender Film ohne Kitsch\, aber mit Substanz und einem begeisternd-sympathischen Oma-Enkelin-Gespann.\nDE/NL 2020\, Dauer ca. 90 Minuten \nVorherige Anmeldung erforderlich. \nEintritt frei\, um eine Spende vor Ort wird gebeten.
URL:https://www.kulturtreffbothfeld.de/events/film-romys-salon/
CATEGORIES:Einzelveranstaltungen,Programm,Veranstaltungen
END:VEVENT
END:VCALENDAR