BEGIN:VCALENDAR
VERSION:2.0
PRODID:-//Kulturtreff Bothfeld - ECPv6.15.20//NONSGML v1.0//EN
CALSCALE:GREGORIAN
METHOD:PUBLISH
X-ORIGINAL-URL:https://www.kulturtreffbothfeld.de
X-WR-CALDESC:Veranstaltungen für Kulturtreff Bothfeld
REFRESH-INTERVAL;VALUE=DURATION:PT1H
X-Robots-Tag:noindex
X-PUBLISHED-TTL:PT1H
BEGIN:VTIMEZONE
TZID:Europe/Berlin
BEGIN:DAYLIGHT
TZOFFSETFROM:+0100
TZOFFSETTO:+0200
TZNAME:CEST
DTSTART:20230326T010000
END:DAYLIGHT
BEGIN:STANDARD
TZOFFSETFROM:+0200
TZOFFSETTO:+0100
TZNAME:CET
DTSTART:20231029T010000
END:STANDARD
BEGIN:DAYLIGHT
TZOFFSETFROM:+0100
TZOFFSETTO:+0200
TZNAME:CEST
DTSTART:20240331T010000
END:DAYLIGHT
BEGIN:STANDARD
TZOFFSETFROM:+0200
TZOFFSETTO:+0100
TZNAME:CET
DTSTART:20241027T010000
END:STANDARD
BEGIN:DAYLIGHT
TZOFFSETFROM:+0100
TZOFFSETTO:+0200
TZNAME:CEST
DTSTART:20250330T010000
END:DAYLIGHT
BEGIN:STANDARD
TZOFFSETFROM:+0200
TZOFFSETTO:+0100
TZNAME:CET
DTSTART:20251026T010000
END:STANDARD
END:VTIMEZONE
BEGIN:VEVENT
DTSTART;TZID=Europe/Berlin:20241025T160000
DTEND;TZID=Europe/Berlin:20241025T180000
DTSTAMP:20260422T181952
CREATED:20240722T072953Z
LAST-MODIFIED:20240709T073527Z
UID:11415-1729872000-1729879200@www.kulturtreffbothfeld.de
SUMMARY:Krimi-Lesung Claudia Rimkus
DESCRIPTION:Krimi-Lesung in gemütlicher Kaffeerunde: Claudia Rimkus liest aus „Eichengrund“\n \nNach ihrer Pensionierung möchte Charlotte Stern eigentlich nur noch ihren Ruhestand genießen. Als sie jedoch durch die Presse von zwei Todesfällen in der Seniorenresidenz Eichengrund erfährt\, erwacht ihr Interesse. Von ehemaligen Kollegen hört sie\, dass es sich um Unfälle handelte – doch ihre Intuition sagt etwas anderes. Kurzerhand meldet sie sich in der Residenz zum Probewohnen an und beginnt zu ermitteln. Plötzlich ist eine weitere Bewohnerin tot…\nDie Autorin Claudia Rimkus wurde 1956 in Hannover geboren\, wo sie noch heute lebt und arbeitet. Mit ihrer Heimatstadt ist die zweifache Mutter und dreifache Großmutter eng verbunden.Trotz aller Dramatik sind ihre Geschichten immer mit Humor gewürzt.\nTeilnahmebeitrag: 12\,- € / erm.10\,-€ incl. Kaffee und Kuchen\nAnmeldung erforderlich.\nEine Veranstaltung im Rahmen des WortLaut-Festivals 2024.\nAlle Informationen und das ganze Programm unter www.wortlaut-hannover.de\nIn Kooperation mit der LHH – Bereich Stadtteilkultur/Kulturelle Erwachsenenbildung
URL:https://www.kulturtreffbothfeld.de/events/krimi-lesung-claudia-rimkus/
CATEGORIES:Einzelveranstaltungen,Programm,Veranstaltungen
END:VEVENT
BEGIN:VEVENT
DTSTART;TZID=Europe/Berlin:20241029T150000
DTEND;TZID=Europe/Berlin:20241029T170000
DTSTAMP:20260422T181952
CREATED:20240721T225353Z
LAST-MODIFIED:20240704T072109Z
UID:11268-1730214000-1730221200@www.kulturtreffbothfeld.de
SUMMARY:Kaffeezeit mit Klönschnack und mehr
DESCRIPTION:Eine Möglichkeit\, um neue Menschen und alte Bekannte im Stadtteil zu treffen und zwei gesellige Stunden bei Kaffee/Tee\, Kuchen oder frischgebackenen Waffeln zu verbringen. Ein kleines Überraschungsangebot wird auch nicht fehlen: mal kreativ\, mal bewegend\, mal musikalisch\, mal nachdenklich\, mal was ganz Anderes… Seien Sie neugierig. Kommen Sie vorbei. Herzlich willkommen!\nUm vorherige Anmeldung wird gebeten\, damit wir kalkulieren können. \nAm 29.10. können Sie nach der Kaffeezeit zur Bürgermeistersprechstunde gehen. \n 
URL:https://www.kulturtreffbothfeld.de/events/kaffeezeit-mit-kloenschnack-und-mehr-13/
CATEGORIES:Einzelveranstaltungen,Kaffeezeit für SeniorInnen,Programm,Veranstaltungen
END:VEVENT
END:VCALENDAR