BEGIN:VCALENDAR
VERSION:2.0
PRODID:-//Kulturtreff Bothfeld - ECPv6.15.20//NONSGML v1.0//EN
CALSCALE:GREGORIAN
METHOD:PUBLISH
X-ORIGINAL-URL:https://www.kulturtreffbothfeld.de
X-WR-CALDESC:Veranstaltungen für Kulturtreff Bothfeld
REFRESH-INTERVAL;VALUE=DURATION:PT1H
X-Robots-Tag:noindex
X-PUBLISHED-TTL:PT1H
BEGIN:VTIMEZONE
TZID:Europe/Berlin
BEGIN:DAYLIGHT
TZOFFSETFROM:+0100
TZOFFSETTO:+0200
TZNAME:CEST
DTSTART:20240331T010000
END:DAYLIGHT
BEGIN:STANDARD
TZOFFSETFROM:+0200
TZOFFSETTO:+0100
TZNAME:CET
DTSTART:20241027T010000
END:STANDARD
BEGIN:DAYLIGHT
TZOFFSETFROM:+0100
TZOFFSETTO:+0200
TZNAME:CEST
DTSTART:20250330T010000
END:DAYLIGHT
BEGIN:STANDARD
TZOFFSETFROM:+0200
TZOFFSETTO:+0100
TZNAME:CET
DTSTART:20251026T010000
END:STANDARD
BEGIN:DAYLIGHT
TZOFFSETFROM:+0100
TZOFFSETTO:+0200
TZNAME:CEST
DTSTART:20260329T010000
END:DAYLIGHT
BEGIN:STANDARD
TZOFFSETFROM:+0200
TZOFFSETTO:+0100
TZNAME:CET
DTSTART:20261025T010000
END:STANDARD
END:VTIMEZONE
BEGIN:VEVENT
DTSTART;TZID=Europe/Berlin:20250208T153000
DTEND;TZID=Europe/Berlin:20250208T183000
DTSTAMP:20260422T120341
CREATED:20250113T082211Z
LAST-MODIFIED:20250113T082211Z
UID:12054-1739028600-1739039400@www.kulturtreffbothfeld.de
SUMMARY:Workshop kreative Schreibtherapie
DESCRIPTION:Schreiben hilft und inspiriert\nDieser Workshop richtet sich an Menschen\, die in oder nach einer schwierigen Lebensphase etwas für sich tun möchten. Die kreative Schreibtherapie kann dazu beitragen\, den Alltag weniger sorgenvoll zu erleben und konstruktiv mit den individuellen Herausforderungen umzugehen. Mit gezielten Schreibimpulsen wollen wir herausfinden\, was im Moment trägt und welche Kraftquellen sich auftun. Schreiben macht Spaß\, inspiriert und belebt unsere inneren Ressourcen. Für die Teilnahme sind keinerlei Vorkenntnisse erforderlich\, lediglich Stift\, Papier und eine Portion Neugierde sollten Sie mitbringen.\nDr. med. Julia Schwerdtfeger (Frauenärztin/Psychotherapie\, Schreibtherapeutin)\n(mind. 6\, max 10 TN)\nTeilnahmebeitrag: 15\,- €\nVorherige Anmeldung und Bezahlung erforderlich.
URL:https://www.kulturtreffbothfeld.de/events/workshop-kreative-schreibtherapie-5/
CATEGORIES:Einzelveranstaltungen,Programm,Veranstaltungen
END:VEVENT
BEGIN:VEVENT
DTSTART;TZID=Europe/Berlin:20250211T180000
DTEND;TZID=Europe/Berlin:20250211T200000
DTSTAMP:20260422T120341
CREATED:20241231T230053Z
LAST-MODIFIED:20241218T093646Z
UID:11919-1739296800-1739304000@www.kulturtreffbothfeld.de
SUMMARY:Multivisionsvortrag
DESCRIPTION:Frankreich für Individualisten – echt bewegend\nBeginnend im “Land der Schtis”\, im Pas de Calais in der schönen Stadt Arras führt diese bewegte und bewegende Reise zunächst in das Herz der Auvergne. Kaum bekannt\, dass sich hier die Chaîne des Puys\, eine Kette von mehr als 100 “noch gestern” aktiver Vulkane entlang zieht\, die noch nicht vollständig erloschen sind.\nIm Westen Frankreichs bewegten im 13. Jahrhundert Mönche Kubikmeter um Kubikmeter Erde und schufen so durch Trockenlegung eines riesigen Sumpfgebietes das heutige “Venise Verte”. Und natürlich treffen wir im weiteren Verlauf der Tour an die französische Atlantikküste auch noch auf viele Orte und Geschichten\, die uns bewegt haben.\nLassen Sie sich von dem an Abwechslung\, Landschaften und Eindrücken reichen Frankreich begeistern und begleiten Sie uns auf dieser Reise.\nUwe Grund\nAnmeldung erwünscht\, Eintritt frei\, um eine angemessene Spende wird gebeten.
URL:https://www.kulturtreffbothfeld.de/events/multivisionsvortrag/
CATEGORIES:Einzelveranstaltungen,Programm,Veranstaltungen
END:VEVENT
BEGIN:VEVENT
DTSTART;TZID=Europe/Berlin:20250213T190000
DTEND;TZID=Europe/Berlin:20250213T204500
DTSTAMP:20260422T120341
CREATED:20241231T230009Z
LAST-MODIFIED:20241210T114233Z
UID:11923-1739473200-1739479500@www.kulturtreffbothfeld.de
SUMMARY:Szenische Lesung Cato Bontjes van Beek und Sophie Scholl
DESCRIPTION:“Lerne mit dem Herzen zu denken!” – Zwei kurze Leben im Widerstand\nEine szenische Lesung über die Widerstandskämpferinnen Cato Bontjes van Beek und Sophie Scholl\nIn der szenischen Lesung von Theaterinitiative Bühnensturm kommt die in Fischerhude geborene und zu Unrecht fast vergessene Widerstandskämpferin Cato Bontjes van Beek durch Briefe und andere Originaldokumente zu Wort. Sie war im selben Alter wie die viel bekanntere Sophie Scholl und die beiden jungen Frauen wurden nur kurz nacheinander hingerichtet. Wer waren die beiden wirklich? Die Inszenierung stellt ihre Biografien nebeneinander und beleuchtet\, wie das junge Nachkriegsdeutschland ideologisch zwischen „gutem“ (Weiße Rose) und „fragwürdigem“ – weil angeblich kommunistischem (Rote Kapelle) – Widerstand unterschied. \nLesung ca. 80 Minuten\, anschließend Nachgespräch\nMit Frauke Geyken (Historikerin) und Johanna Kunze (Schauspielerin)\nTeilnahmebeitrag: 8\,- €/ Schüler*innen 4\,- €\nAnmeldung bis 4.2. erforderlich (Restkarten an der Abendkasse\, wenn verfügbar)\nOrt: Kulturbüro Südstadt\, Böhmerstraße 8\nEine gemeinsame Veranstaltung verschiedener Kulturtreffs
URL:https://www.kulturtreffbothfeld.de/events/lerne-mit-dem-herzen-zu-denken/
CATEGORIES:Einzelveranstaltungen,Programm,Veranstaltungen
END:VEVENT
BEGIN:VEVENT
DTSTART;TZID=Europe/Berlin:20250215T153000
DTEND;TZID=Europe/Berlin:20250215T174500
DTSTAMP:20260422T120341
CREATED:20241231T230035Z
LAST-MODIFIED:20241212T073520Z
UID:11927-1739633400-1739641500@www.kulturtreffbothfeld.de
SUMMARY:Workshop Lachyoga
DESCRIPTION:„Lachen. Einfach machen.“\nDie Methode Lachyoga gibt es seit fast 30 Jahren; sie hat sich in den letzten Jahrzehnten rasant rund um die Welt verbreitet. In diesen herausfordernden Zeiten ist es besonders wichtig\, auf sich selbst zu achten. Lachen\, Atmen und Entspannen sind wertvolle Übungen für das Körperzellenglück.\nDieser Workshop ist für Einsteiger*innen und Wiederholer*innen gleichermaßen geeignet.\nDie leicht erlernbaren Übungen erfrischen den Geist und beleben den Körper. Probieren sie es aus\, es ist einfacher\, als sie denken!\nBitte eine Decke für die wohltuende Abschlussentspannung mitbringen.\nRenate Lena Hannemann\, Ergotherapeutin und Lachyogatrainerin 20\,- € / erm. 18\,- €
URL:https://www.kulturtreffbothfeld.de/events/workshop-lachyoga-2/
CATEGORIES:Einzelveranstaltungen,Gesundheit,Programm,Veranstaltungen
END:VEVENT
BEGIN:VEVENT
DTSTART;TZID=Europe/Berlin:20250218T150000
DTEND;TZID=Europe/Berlin:20250218T164500
DTSTAMP:20260422T120341
CREATED:20241212T082130Z
LAST-MODIFIED:20241212T082130Z
UID:11963-1739890800-1739897100@www.kulturtreffbothfeld.de
SUMMARY:Kaffeezeit mit Klönschnack und mehr
DESCRIPTION:Eine Möglichkeit\, um neue Menschen und alte Bekannte im Stadtteil zu treffen und zwei gesellige Stunden bei Kaffee/Tee\, Kuchen oder frischgebackenen Waffeln zu verbringen. Ein kleines Überraschungsangebot wird auch nicht fehlen: mal kreativ\, mal bewegend\, mal musikalisch\, mal nachdenklich\, mal was ganz Anderes… Seien Sie neugierig. Kommen Sie vorbei. Herzlich willkommen!\nUm vorherige Anmeldung wird gebeten. \n \n 
URL:https://www.kulturtreffbothfeld.de/events/kaffeezeit-mit-kloenschnack-und-mehr-17/
CATEGORIES:Einzelveranstaltungen,Kaffeezeit für SeniorInnen,Programm,Veranstaltungen
END:VEVENT
BEGIN:VEVENT
DTSTART;TZID=Europe/Berlin:20250218T180000
DTEND;TZID=Europe/Berlin:20250218T200000
DTSTAMP:20260422T120341
CREATED:20241231T230031Z
LAST-MODIFIED:20241218T093541Z
UID:11932-1739901600-1739908800@www.kulturtreffbothfeld.de
SUMMARY:Tanz-Workshop 1: Modern Square
DESCRIPTION:Modern American Square Dance – Tanzsport\, Vergnügen\, Gemeinschaft\nJeder weiß\, dass Bewegung gut tut. Aber auch der Kopf benötigt „Bewegung“. Und da kommt der Square Dance ins Spiel. Ein „Caller“\, die Tanzleitung\, ruft den Tänzern und Tänzerinnen ständig neue Figuren zu. Die müssen im Kopf verarbeitet werden\, flitzen an der Wirbelsäule entlang nach unten in Beine und Füße und setzen sie in Bewegung um: der Mensch tanzt.\nNach Ansage und Musik aus Country\, Pop\, Musical\, Blues und Dixieland.\nLeitung: Maren Gigga\nTeilnahmegebühr: 9\,- € /erm. 7\,- €\nKeine Vorkenntnisse erforderlich. Bitte bequeme Kleidung/Schuhe tragen und etwas zu trinken mitbringen.\nVorherige Anmeldung und Bezahlung erforderlich.
URL:https://www.kulturtreffbothfeld.de/events/tanz-workshop-1/
CATEGORIES:Einzelveranstaltungen,Gesundheit,Programm,Veranstaltungen
END:VEVENT
BEGIN:VEVENT
DTSTART;TZID=Europe/Berlin:20250225T193000
DTEND;TZID=Europe/Berlin:20250225T210000
DTSTAMP:20260422T120341
CREATED:20241231T230054Z
LAST-MODIFIED:20241212T074025Z
UID:11929-1740511800-1740517200@www.kulturtreffbothfeld.de
SUMMARY:Konzert: Corinna Fiedler & Constantin Braun
DESCRIPTION:Das Duo Corinna Fiedler (Gesang) & Constantin Braun (Piano) präsentiert persönliche Lieblings-Songs aus den letzten Jahrzehnten.Erleben Sie einen Abend in Wohnzimmeratmosphäre mit Pop- und Soul-Arrangements aus leisen und lauteren Tönen – hochkarätig\, facettenreich\, dynamisch\, mit Gefühl und Liebe zum Detail neu interpretiert. Freuen Sie sich auf zwei leidenschaftliche Musikprofis\, die Stimme und Klavier auf ihre ganz eigene emotionale Art und Weise verschmelzen lassen.\nEintritt: 12\,- €/erm. 10\,- €\nNutzen Sie den den Vorverkauf!
URL:https://www.kulturtreffbothfeld.de/events/konzert-corinna-fiedler-constantin-braun/
CATEGORIES:Einzelveranstaltungen,Programm,Veranstaltungen
END:VEVENT
BEGIN:VEVENT
DTSTART;TZID=Europe/Berlin:20250226T103000
DTEND;TZID=Europe/Berlin:20250226T113000
DTSTAMP:20260422T120341
CREATED:20241212T083627Z
LAST-MODIFIED:20241212T083627Z
UID:11968-1740565800-1740569400@www.kulturtreffbothfeld.de
SUMMARY:Kindertheater: “Die Bremer Stadtmusikanten"
DESCRIPTION:„Mensch\, Puppe!“ (Bremer Figurentheater) zeigt:\n“Die Bremer Stadtmusikanten – für Träume ist es nie zu spät”\nElfriede\, eine alte Katzendame\, die viele Jahre mit ihren drei Freunden das kleine Räuberhaus bei Bosseborn bewohnt hatte\, erfüllt sich im hohen Alter ihren größten Wunsch. Sie macht sich auf nach Bremen\, um die Stadt ihrer Träume endlich zu finden. Auf ihrer Reise kommt sie in unser Theater und erzählt den kleinen und großen Zuschauern ihre ganz eigene Geschichte: wie sie vor vielen Jahren auf den Esel Jochen\, die Hündin Sonja und den Hahn Frieder traf. Man wollte sie\, weil sie alt waren und zu nichts mehr taugten\, verjagen oder gar aus dem Futter schaffen. Und so beschlossen die Vier damals\, sich in Freundschaft zusammenzuschließen und nach Bremen zu ziehen. Denn dort könne man als Stadtmusikant auch im Alter noch seinen Lebensabend genießen. Doch es sollte anders kommen…\nJeannette Luft erzählt und spielt das altbekannte Märchen auf neue Weise und verknüpft es mit vielen schönen Liedern.\nAltersempfehlung: 4 – 9 Jahre\nSpieldauer: ca. 40 Min.\nEintritt: 5\,- €\nVorherige Anmeldung im Kulturtreff für Gruppen und Einzelpersonen erforderlich!\nIn Zusammenarbeit mit der Landeshauptstadt Hannover\, Fachbereich Kultur\, Stadtteilkultur.
URL:https://www.kulturtreffbothfeld.de/events/kindertheater-die-bremer-stadtmusikanten/
CATEGORIES:Einzelveranstaltungen,Kinder,Programm,Veranstaltungen
END:VEVENT
END:VCALENDAR