BEGIN:VCALENDAR
VERSION:2.0
PRODID:-//Kulturtreff Bothfeld - ECPv6.15.20//NONSGML v1.0//EN
CALSCALE:GREGORIAN
METHOD:PUBLISH
X-ORIGINAL-URL:https://www.kulturtreffbothfeld.de
X-WR-CALDESC:Veranstaltungen für Kulturtreff Bothfeld
REFRESH-INTERVAL;VALUE=DURATION:PT1H
X-Robots-Tag:noindex
X-PUBLISHED-TTL:PT1H
BEGIN:VTIMEZONE
TZID:Europe/Berlin
BEGIN:DAYLIGHT
TZOFFSETFROM:+0100
TZOFFSETTO:+0200
TZNAME:CEST
DTSTART:20240331T010000
END:DAYLIGHT
BEGIN:STANDARD
TZOFFSETFROM:+0200
TZOFFSETTO:+0100
TZNAME:CET
DTSTART:20241027T010000
END:STANDARD
BEGIN:DAYLIGHT
TZOFFSETFROM:+0100
TZOFFSETTO:+0200
TZNAME:CEST
DTSTART:20250330T010000
END:DAYLIGHT
BEGIN:STANDARD
TZOFFSETFROM:+0200
TZOFFSETTO:+0100
TZNAME:CET
DTSTART:20251026T010000
END:STANDARD
BEGIN:DAYLIGHT
TZOFFSETFROM:+0100
TZOFFSETTO:+0200
TZNAME:CEST
DTSTART:20260329T010000
END:DAYLIGHT
BEGIN:STANDARD
TZOFFSETFROM:+0200
TZOFFSETTO:+0100
TZNAME:CET
DTSTART:20261025T010000
END:STANDARD
END:VTIMEZONE
BEGIN:VEVENT
DTSTART;TZID=Europe/Berlin:20250304T170000
DTEND;TZID=Europe/Berlin:20250304T190000
DTSTAMP:20260422T102333
CREATED:20241231T230007Z
LAST-MODIFIED:20241218T092828Z
UID:11936-1741107600-1741114800@www.kulturtreffbothfeld.de
SUMMARY:Tanz-Workshop 2: Griechischer Tanz
DESCRIPTION:Griechischer Tanz\nAn diesem Schnupper-Abend wollen wir verschiedene Volkstänze aus Griechenland ausprobieren. Getanzt wird gemeinsam im Kreis. Das macht Spaß\, verbindet die Gruppe und lockert den Körper.\nLeitung: Kalliopi Filippou\nTeilnahmegebühr: 9\,-€ /erm. 7.-€\nKeine Vorkenntnisse erforderlich. Bitte bequeme Kleidung/Schuhe tragen und etwas zu trinken mitbringen.\nVorherige Anmeldung und Bezahlung erforderlich. \n 
URL:https://www.kulturtreffbothfeld.de/events/tanz-workshop-2/
CATEGORIES:Einzelveranstaltungen,Gesundheit,Programm,Veranstaltungen
END:VEVENT
BEGIN:VEVENT
DTSTART;TZID=Europe/Berlin:20250305T183000
DTEND;TZID=Europe/Berlin:20250305T200000
DTSTAMP:20260422T102333
CREATED:20241231T230043Z
LAST-MODIFIED:20241212T080936Z
UID:11950-1741199400-1741204800@www.kulturtreffbothfeld.de
SUMMARY:Rumi-Abend
DESCRIPTION:Rumi-Abend – ein Abend mit Poesie\, Gesang und Rhythmen\nSternstunden gesungener Weisheit und Liebe: ein Abend voller Vergnügen\, Tiefgang und Zauber. Wir lauschen der persischen Rahmentrommel (Daf) und dem Saiteninstrument Tanbur und wer mag\, singt gerne die schönen und einfachen Melodien mit. Es werden außerdem zeitlose Gedichte des persischen Dichters Rumi vorgelesen und so erleben wir einen Abend für Kopf und Herz.\nEva Knoche (Impulsgeberin+Coach)\nTeilnahmegebühr 5\,- €\nVorherige Anmeldung erforderlich.
URL:https://www.kulturtreffbothfeld.de/events/rumi-abend/
CATEGORIES:Einzelveranstaltungen,Gesundheit,Programm,Veranstaltungen
END:VEVENT
BEGIN:VEVENT
DTSTART;TZID=Europe/Berlin:20250314T180000
DTEND;TZID=Europe/Berlin:20250314T220000
DTSTAMP:20260422T102333
CREATED:20241231T230039Z
LAST-MODIFIED:20241212T081134Z
UID:11952-1741975200-1741989600@www.kulturtreffbothfeld.de
SUMMARY:Bothfelder-Dinner-Spaziergang
DESCRIPTION:Wenn Sie gerne kochen und Gäste haben\, neue Menschen\, Rezepte und Orte kennen lernen mögen\, dann ist der Bothfelder Dinner-Spaziergang genau das Richtige für Sie. Sechs Personen\, also drei Zweierteams bilden eine Dinnergruppe. Jedes Zweierteam ist für einen Gang des Drei-Gänge-Menus zuständig und somit 1x gastgebend und 2x zu Gast. Die Gäste gehen um 18:00 zum Vorspeisenteam\, dort lernt sich die Dinnergruppe kennen. Um 19:30 geht es gemeinsam weiter zur Hauptspeise und gegen 21:00 zur Nachspeise zu den jeweiligen Gastgebenden.\nBestenfalls melden Sie sich gleich als Zweierteam an\, das bereit ist\, einen der drei Gänge zuzubereiten und mit 4 Gästen in den eigenen Räumen zu genießen.\nWenn Sie als Einzelperson eine Kochbeteiligung suchen\, dann versuchen wir gerne neue Zweierteams zu bilden.\nWir stellen die Dinnergruppen nach Wohnortnähe zusammen und klären mit den Gruppenmitgliedern\, welchen Gang sie übernehmen möchten. Damit die Kosten für die einzelnen Teams vergleichbar sind\, bitten wir Sie mit einem Betrag von ca. 6- 8 € pro Person zu kalkulieren.\nWenn Sie noch Fragen haben oder sich anmelden möchten\, rufen Sie uns gerne an.\nStartgebühr: 5\,- €\nAnmeldung erforderlich.
URL:https://www.kulturtreffbothfeld.de/events/bothfelder-dinner-spaziergang/
CATEGORIES:Einzelveranstaltungen,Programm,Veranstaltungen
END:VEVENT
BEGIN:VEVENT
DTSTART;TZID=Europe/Berlin:20250318T150000
DTEND;TZID=Europe/Berlin:20250318T170000
DTSTAMP:20260422T102333
CREATED:20241231T230042Z
LAST-MODIFIED:20241218T092712Z
UID:11954-1742310000-1742317200@www.kulturtreffbothfeld.de
SUMMARY:Besuch und Führung bei "fairKauf"
DESCRIPTION:Das besondere Einkaufserlebnis: in acht Filialen in Hannover und der Region bietet fairKauf gespendete\, gut erhaltene Ware an. Von Textilien\, Haushaltswaren und Spielwaren\, bis hin zu Büchern\, Medien\, Möbeln und Technik ist für alle etwas dabei.\nDurch den Verkauf der gespendeten Ware wird die Qualifizierung von langzeitarbeitslosen Menschen finanziert\, um so deren Chance auf dem Arbeitsmarkt zu verbessern. Stöbern lohnt sich also für Sie\, Ihre Mitmenschen und die Umwelt!\nBei der Führung erfahren wir Interessantes zur Entstehung sowie zu den Hintergründen der Arbeit von fairKauf.\nTreffpunkt: Medienabteilung im EG\, Limburgstraße 1/Ecke Kl. Packhofstr.\nTeilnahmegebühr: 3\,- €\nVorherige Anmeldung und Bezahlung im Kulturtreff erforderlich!
URL:https://www.kulturtreffbothfeld.de/events/besuch-und-fuehrung-bei-fairkauf/
CATEGORIES:Einzelveranstaltungen,Programm,Veranstaltungen
END:VEVENT
BEGIN:VEVENT
DTSTART;TZID=Europe/Berlin:20250324T130000
DTEND;TZID=Europe/Berlin:20250324T150000
DTSTAMP:20260422T102333
CREATED:20241231T230006Z
LAST-MODIFIED:20241212T081424Z
UID:11956-1742821200-1742828400@www.kulturtreffbothfeld.de
SUMMARY:Sozialer Stadtrundgang
DESCRIPTION:Weg aus Sexarbeit und Sucht\nAsphalt zeigt Ihnen das andere Hannover…\nDer Stadtrundgang führt Sie im Schatten teurer Fassaden an Orte\, wo Wohnungslose und Prostituierte keine Randgruppe sind. Erleben Sie die Straße neu und lernen Sie spezielle Anlaufstellen kennen. Diesmal schauen wir im Areal von Oststadt bis Steintor hauptsächlich darauf\, wie es den Frauen ergeht. Es werden frauenspezifische Angebote vorgestellt. In einer Mischung aus Fakten & persönlichen Erfahrungen zeigt Ihnen die Asphalt-Stadtführer*in Ecken Hannovers\, an denen sich das Leben der Betroffenen abspielt und beantwortet Ihre neugierigen Fragen.\nTreffpunkt : Asphalt gGmbH\, Hallerstraße 3\, 30161 Hannover\nVorherige Anmeldung und Bezahlung im Kulturtreff erforderlich!\nFür die Teilnahme erbittet Asphalt einen Kostenbeitrag von 10\,- Euro; von SchülerInnen/Studierenden/BFD und FSJ jeweils 5 Euro pro Person\nAltersbeschränkung: ab 18 Jahren!
URL:https://www.kulturtreffbothfeld.de/events/sozialer-stadtrundgang/
CATEGORIES:Einzelveranstaltungen,Programm,Veranstaltungen
END:VEVENT
BEGIN:VEVENT
DTSTART;TZID=Europe/Berlin:20250328T190000
DTEND;TZID=Europe/Berlin:20250328T203000
DTSTAMP:20260422T102333
CREATED:20241231T230026Z
LAST-MODIFIED:20241212T081703Z
UID:11958-1743188400-1743193800@www.kulturtreffbothfeld.de
SUMMARY:Musik und Anekdoten
DESCRIPTION:Klassische Gitarrenmusik und Begebenheiten aus dem spannenden Alltag eines Bothfelders werden präsentiert\, nach Art der bekannten „Lüttjen Lagen“ aus der HAZ. Gitarrenstücke von Aguado\, Bach\, Barrios\, Lauro\, Mertz u. a. wechseln sich ab mit Anekdoten und pointierten Betrachtungen aus dem täglichen Leben. \nEs spielt Dieter Schmidt und es liest Ingolf Dumke.\n\nGegen Spende vor Ort.\nUm vorherige Anmeldung wird gebeten.
URL:https://www.kulturtreffbothfeld.de/events/musik-und-anekdoten-3/
CATEGORIES:Einzelveranstaltungen,Programm,Veranstaltungen
END:VEVENT
END:VCALENDAR