BEGIN:VCALENDAR
VERSION:2.0
PRODID:-//Kulturtreff Bothfeld - ECPv6.15.20//NONSGML v1.0//EN
CALSCALE:GREGORIAN
METHOD:PUBLISH
X-WR-CALNAME:Kulturtreff Bothfeld
X-ORIGINAL-URL:https://www.kulturtreffbothfeld.de
X-WR-CALDESC:Veranstaltungen für Kulturtreff Bothfeld
REFRESH-INTERVAL;VALUE=DURATION:PT1H
X-Robots-Tag:noindex
X-PUBLISHED-TTL:PT1H
BEGIN:VTIMEZONE
TZID:Europe/Berlin
BEGIN:DAYLIGHT
TZOFFSETFROM:+0100
TZOFFSETTO:+0200
TZNAME:CEST
DTSTART:20240331T010000
END:DAYLIGHT
BEGIN:STANDARD
TZOFFSETFROM:+0200
TZOFFSETTO:+0100
TZNAME:CET
DTSTART:20241027T010000
END:STANDARD
BEGIN:DAYLIGHT
TZOFFSETFROM:+0100
TZOFFSETTO:+0200
TZNAME:CEST
DTSTART:20250330T010000
END:DAYLIGHT
BEGIN:STANDARD
TZOFFSETFROM:+0200
TZOFFSETTO:+0100
TZNAME:CET
DTSTART:20251026T010000
END:STANDARD
BEGIN:DAYLIGHT
TZOFFSETFROM:+0100
TZOFFSETTO:+0200
TZNAME:CEST
DTSTART:20260329T010000
END:DAYLIGHT
BEGIN:STANDARD
TZOFFSETFROM:+0200
TZOFFSETTO:+0100
TZNAME:CET
DTSTART:20261025T010000
END:STANDARD
END:VTIMEZONE
BEGIN:VEVENT
DTSTART;TZID=Europe/Berlin:20250401T150000
DTEND;TZID=Europe/Berlin:20250401T164500
DTSTAMP:20260422T084454
CREATED:20241212T082210Z
LAST-MODIFIED:20241212T082210Z
UID:11964-1743519600-1743525900@www.kulturtreffbothfeld.de
SUMMARY:Kaffeezeit mit Klönschnack und mehr
DESCRIPTION:Eine Möglichkeit\, um neue Menschen und alte Bekannte im Stadtteil zu treffen und zwei gesellige Stunden bei Kaffee/Tee\, Kuchen oder frischgebackenen Waffeln zu verbringen. Ein kleines Überraschungsangebot wird auch nicht fehlen: mal kreativ\, mal bewegend\, mal musikalisch\, mal nachdenklich\, mal was ganz Anderes… Seien Sie neugierig. Kommen Sie vorbei. Herzlich willkommen!\nUm vorherige Anmeldung wird gebeten. \n 
URL:https://www.kulturtreffbothfeld.de/events/kaffeezeit-mit-kloenschnack-und-mehr-18/
CATEGORIES:Einzelveranstaltungen,Kaffeezeit für SeniorInnen,Programm,Veranstaltungen
END:VEVENT
BEGIN:VEVENT
DTSTART;TZID=Europe/Berlin:20250403T170000
DTEND;TZID=Europe/Berlin:20250403T180000
DTSTAMP:20260422T084454
CREATED:20241231T230021Z
LAST-MODIFIED:20241212T075852Z
UID:11938-1743699600-1743703200@www.kulturtreffbothfeld.de
SUMMARY:Tanz-Workshop 3: Salsa Solo
DESCRIPTION:Salsa Solo\nZusammen mitreißende Latino-Rhythmen genießen\, eintauchen in eine Welt voller Spaß\, Leichtigkeit und Gemeinschaft\, während wir Salsa\, Merengue und Bachata ohne einen Tanzpartner tanzen. Bei Salsa Solo geht es darum\, sich selbst zu feiern\, zu bewegen und frei zu fühlen.\nTeilnahmegebühr: 5\,-€ /erm. 4.-€\nLeitung: Lisa Schade\nKeine Vorkenntnisse erforderlich. Bitte bequeme Kleidung/Schuhe tragen und etwas zu trinken mitbringen.\nVorherige Anmeldung und Bezahlung erforderlich. \n 
URL:https://www.kulturtreffbothfeld.de/events/tanz-workshop-3/
CATEGORIES:Einzelveranstaltungen,Gesundheit,Programm,Veranstaltungen
END:VEVENT
BEGIN:VEVENT
DTSTART;TZID=Europe/Berlin:20250403T183000
DTEND;TZID=Europe/Berlin:20250403T193000
DTSTAMP:20260422T084454
CREATED:20241231T230018Z
LAST-MODIFIED:20241218T093619Z
UID:11940-1743705000-1743708600@www.kulturtreffbothfeld.de
SUMMARY:Tanz-Workshop 4: Emotional Dance
DESCRIPTION:Emotional Dance\nDen Tanz als eine Reise durch Emotionen\, als Ausdruck von Freude\, Trauer\, Liebe und allem dazwischen erleben: diese Tanzstunde berührt die Seele und bringt uns dazu\, uns selbst und die Welt um uns herum auf eine ganz neue Art zu spüren.\nTeilnahmegebühr: 5\,-€ /erm. 4.-€\nLeitung: Lisa Schade\nKeine Vorkenntnisse erforderlich. Bitte bequeme Kleidung/Schuhe tragen und etwas zu trinken mitbringen.\nVorherige Anmeldung und Bezahlung erforderlich. \n 
URL:https://www.kulturtreffbothfeld.de/events/tanz-workshop-4/
CATEGORIES:Einzelveranstaltungen,Gesundheit,Programm,Veranstaltungen
END:VEVENT
END:VCALENDAR