BEGIN:VCALENDAR
VERSION:2.0
PRODID:-//Kulturtreff Bothfeld - ECPv6.15.20//NONSGML v1.0//EN
CALSCALE:GREGORIAN
METHOD:PUBLISH
X-WR-CALNAME:Kulturtreff Bothfeld
X-ORIGINAL-URL:https://www.kulturtreffbothfeld.de
X-WR-CALDESC:Veranstaltungen für Kulturtreff Bothfeld
REFRESH-INTERVAL;VALUE=DURATION:PT1H
X-Robots-Tag:noindex
X-PUBLISHED-TTL:PT1H
BEGIN:VTIMEZONE
TZID:Europe/Berlin
BEGIN:DAYLIGHT
TZOFFSETFROM:+0100
TZOFFSETTO:+0200
TZNAME:CEST
DTSTART:20240331T010000
END:DAYLIGHT
BEGIN:STANDARD
TZOFFSETFROM:+0200
TZOFFSETTO:+0100
TZNAME:CET
DTSTART:20241027T010000
END:STANDARD
BEGIN:DAYLIGHT
TZOFFSETFROM:+0100
TZOFFSETTO:+0200
TZNAME:CEST
DTSTART:20250330T010000
END:DAYLIGHT
BEGIN:STANDARD
TZOFFSETFROM:+0200
TZOFFSETTO:+0100
TZNAME:CET
DTSTART:20251026T010000
END:STANDARD
BEGIN:DAYLIGHT
TZOFFSETFROM:+0100
TZOFFSETTO:+0200
TZNAME:CEST
DTSTART:20260329T010000
END:DAYLIGHT
BEGIN:STANDARD
TZOFFSETFROM:+0200
TZOFFSETTO:+0100
TZNAME:CET
DTSTART:20261025T010000
END:STANDARD
END:VTIMEZONE
BEGIN:VEVENT
DTSTART;TZID=Europe/Berlin:20250505T160000
DTEND;TZID=Europe/Berlin:20250505T180000
DTSTAMP:20260422T071138
CREATED:20250410T100614Z
LAST-MODIFIED:20250403T102918Z
UID:12230-1746460800-1746468000@www.kulturtreffbothfeld.de
SUMMARY:PapierWerkstatt
DESCRIPTION:PapierWerkstatt – Papier schöpfen\nAn diesem Nachmittag möchten wir neues und besonderes Papier zur kreativen Weiterverwendung schöpfen. Unser Basismaterial sind die alten Programmhefte des Kulturtreffs\, die wir auf diese Art und Weise ver- und aufwerten wollen.\nAlle Materialien zur Herstellung und Gestaltung sind vorrätig\, Sie können aber gerne noch eigenes Material mitbringen.\nLeitung: Elke Wittrin + Heike Wollborn | 10\,- €\nVorherige Anmeldung erforderlich.
URL:https://www.kulturtreffbothfeld.de/events/papierwerkstatt/
CATEGORIES:Einzelveranstaltungen,Programm,StadteilKULTUR-NATURverbunden,Veranstaltungen
END:VEVENT
BEGIN:VEVENT
DTSTART;TZID=Europe/Berlin:20250506T190000
DTEND;TZID=Europe/Berlin:20250506T203000
DTSTAMP:20260422T071138
CREATED:20250406T095239Z
LAST-MODIFIED:20250430T064937Z
UID:12183-1746558000-1746563400@www.kulturtreffbothfeld.de
SUMMARY:Hannover sehen und sterben - Lesung Thorsten Sueße
DESCRIPTION:Hinweis: Die Lesung wird verschoben auf Di\, 4. November!\nEintritt: 8\,-/erm 6\,-€\nUm vorherige Anmeldung wird gebeten.
URL:https://www.kulturtreffbothfeld.de/events/hannover-sehen-und-sterben-lesung-thorsten-suesse/
CATEGORIES:Einzelveranstaltungen,Programm,Veranstaltungen
END:VEVENT
BEGIN:VEVENT
DTSTART;TZID=Europe/Berlin:20250508T180000
DTEND;TZID=Europe/Berlin:20250508T190000
DTSTAMP:20260422T071138
CREATED:20250402T085939Z
LAST-MODIFIED:20250402T090020Z
UID:12206-1746727200-1746730800@www.kulturtreffbothfeld.de
SUMMARY:Vernissage "Augenblicke"
DESCRIPTION:Der Acrylmalkurs 2 unter der Leitung von Katharina Lob besteht schon seit einigen Jahren und stellt nun wieder in den Räumen des Kulturtreffs aus. 10 Künstlerinnen und ein Künstler zeigen ihre Werke. Von Abstraktion bis Fotorealismus werden auch verschiedene Materialmischungen vertreten sein. Die individuellen Stile der ausstellenden Künstler*innen zeigen ein großes Repertoire an Möglichkeiten der Acrylmalerei. \nDie Vernissage am Donnerstag\, 8. Mai um 18 Uhr wird musikalisch vom Gitarren-Forum des Kulturtreffs begleitet. \n\n \nVorherige Anmeldung im Kulturtreff zur Vernissage erbeten.
URL:https://www.kulturtreffbothfeld.de/events/vernissage-augenblicke/
CATEGORIES:Einzelveranstaltungen,Programm,Veranstaltungen
END:VEVENT
BEGIN:VEVENT
DTSTART;TZID=Europe/Berlin:20250511T150000
DTEND;TZID=Europe/Berlin:20250511T180000
DTSTAMP:20260422T071138
CREATED:20250410T093512Z
LAST-MODIFIED:20250401T095232Z
UID:12181-1746975600-1746986400@www.kulturtreffbothfeld.de
SUMMARY:Schreibwerkstatt
DESCRIPTION:„Fantastische Räume erkunden“\nKommt Ihnen die Realität manchmal vor wie ein Traum? Vielleicht sind Sie dann richtig hier. Wir wollen erkunden\, wie es ist\, wenn der Alltag auf das Sonderbare trifft. Je absurder\, desto besser? Oder ist es gerade die wohldosierte Mischung aus Realismus und Wahnsinn\, der Texte faszinierend macht?\nIn verschiedenen Schreibübungen wollen wir erkunden\, wie wir auf dem Papier fantastische Welten entstehen lassen können. Anschließend tauschen wir uns über das Geschriebene aus und sammeln Ideen\, wie die ersten Entwürfe weitergeführt werden könnten.\nIn Kooperation mit dem Autor:innenzentrum Hannover\nLeitung: Burkhard Wetekam (Autor)\nTeilnahmebeitrag: 10\,- €/ erm. 8\,- € (für Mitglieder des Kulturtreffs + des Autor:innenzentrums)\nVorherige Anmeldung im Kulturtreff erforderlich.
URL:https://www.kulturtreffbothfeld.de/events/schreibwerkstatt-3/
CATEGORIES:Programm,Veranstaltungen
END:VEVENT
BEGIN:VEVENT
DTSTART;TZID=Europe/Berlin:20250514T150000
DTEND;TZID=Europe/Berlin:20250514T160000
DTSTAMP:20260422T071138
CREATED:20250410T095510Z
LAST-MODIFIED:20250402T074432Z
UID:12185-1747234800-1747238400@www.kulturtreffbothfeld.de
SUMMARY:Führung im Sprengelmuseum: Grethe Jürgens
DESCRIPTION:Diese Retrospektive im Jubiläumsjahr der Neuen Sachlichkeit bietet eine seltene Gelegenheit\, die Künstlerin Grethe Jürgens in ihrer Schaffensbreite zu entdecken. Die rund 150 Werke zeigen ihre typische Bildsprache\, geprägt von nüchternem Realismus und einem kühlen Blick auf die Motive. Ihre Werke sind frei von Anklage und Verurteilung\, zeigen jedoch aufmerksam soziale Spannungen und die Herausforderungen des Lebens am Rand der Gesellschaft.\nIhre „Trümmerbilder“ aus dem zerstörten Hannover sind einzigartig in ihrer eindrucksvollen Darstellung der Ruinen sowie der beginnenden Erneuerung und der Hoffnung auf Wiederaufbau. Jürgens entwickelte sich später weiter zur abstrakten Kunst und schuf Serien wie die „Linienkompositionen“ und die „Kaleidoskope“. Ihre Experimentierfreude blieb bis ins hohe Alter erhalten\, auch wenn sie sich zunehmend zwischen Abstraktion und figurativen Motiven bewegte.\nNach der einstündigen Führung bleibt Zeit\, um auf eigene Faust durch das Museum zu streifen.\nTeilnahmebeitrag (Eintritt und Führung): 10\,-/erm 8\,-€\nVorherige Anmeldung und Bezahlung im Kulturtreff erforderlich.\nTreffpunkt: Eingang Sprengelmuseum
URL:https://www.kulturtreffbothfeld.de/events/fuehrung-im-sprengelmuseum-grethe-juergens/
CATEGORIES:Einzelveranstaltungen,Programm,Veranstaltungen
END:VEVENT
BEGIN:VEVENT
DTSTART;TZID=Europe/Berlin:20250515T123000
DTEND;TZID=Europe/Berlin:20250515T130000
DTSTAMP:20260422T071138
CREATED:20250326T105029Z
LAST-MODIFIED:20250326T105307Z
UID:12113-1747312200-1747314000@www.kulturtreffbothfeld.de
SUMMARY:MittagsMusik: Gitarrenforum
DESCRIPTION:„MittagsMusik“ – kleine Konzerte zur Mittagszeit\nIn unserer Reihe „MittagsMusik“ bieten wir Ihnen auf unserer grünen\, lauschigen Innenhof-Terrasse wieder feine Konzerthäppchen „für zwischendurch“.\nDie Konzerte finden draußen statt – bei sehr schlechtem Wetter ausnahmsweise auch drin!\nDer Eintritt ist frei\, um eine angemessene Spende wird gebeten.\nUm vorherige Anmeldung wird gebeten. \nDonnerstag\, 15. 05.: Gitarren-Forum\nDas Gitarren-Forum\, vor zehn Jahren von der Gitarristin und Komponistin Maria Linnemann ins Leben gerufen und seitdem zuhause im Kulturtreff Bothfeld\, feiert sein Jubiläum mit diesem Mittagskonzert. Das Programm der zehnköpfigen Gruppe besteht hauptsächlich aus irischer und spanischer Volksmusik. Viel Vergnügen! \n  \n 
URL:https://www.kulturtreffbothfeld.de/events/mittagsmusik-thomas-martin/
CATEGORIES:Einzelveranstaltungen,MittagsMusik,Programm,Veranstaltungen
END:VEVENT
BEGIN:VEVENT
DTSTART;TZID=Europe/Berlin:20250520T190000
DTEND;TZID=Europe/Berlin:20250520T210000
DTSTAMP:20260422T071138
CREATED:20250327T100144Z
LAST-MODIFIED:20250327T101420Z
UID:12123-1747767600-1747774800@www.kulturtreffbothfeld.de
SUMMARY:Konzert: „Taverna Nova“
DESCRIPTION:An diesem Abend wird Ihnen das Ensemble “Taverna Nova” (Duo Malikì trifft Barock) die Tür zu ihrem Wohnzimmer öffnen und in eine gemütliche und intime Atmosphäre versetzen\, die von barocken Melodien\, mediterranen Volksliedern und argentinischen Tangos geprägt ist. Die musikalische Dramaturgie des Abends wird zwischen Wein\, Noten\, Seufzern und Lachen erzählt.\n\nChiara Raimondi – Stimme\nMarkus Korda – Akkordeon\, Gitarre\nDaniel Seminara – Gitarre\, Laute\nVerena Spieß – Cell \nEintritt: 12\,- €/erm. 10\,- €\nNutzen Sie den den Vorverkauf!
URL:https://www.kulturtreffbothfeld.de/events/konzert-taverna-nova/
CATEGORIES:Einzelveranstaltungen,Programm,Veranstaltungen
END:VEVENT
BEGIN:VEVENT
DTSTART;TZID=Europe/Berlin:20250523T163000
DTEND;TZID=Europe/Berlin:20250523T180000
DTSTAMP:20260422T071138
CREATED:20250410T095714Z
LAST-MODIFIED:20250407T081133Z
UID:12187-1748017800-1748023200@www.kulturtreffbothfeld.de
SUMMARY:Stadtbezirkstag gegen Rechtsextremismus
DESCRIPTION:Am Tag der Verfassung setzt der Stadtbezirk Bothfeld-Vahrenheide ein klares Zeichen für Demokratie und gegen jede Form von Extremismus.\nDer Bezirksrat hat diesen Tag ins Leben gerufen\, um für die Gefahren des Rechtsextremismus zu sensibilisieren und die Werte des Grundgesetzes als Basis unseres Zusammenlebens zu betonen.\nMit vielfältigen Aktionen und Beiträgen\, organisiert von Kultur-\, Sport-\, und Bildungseinrichtungen\, von Vereinen\, Verbänden\, Schulen\, etc. wird daran erinnert\, dass Demokratie kein Selbstläufer ist. Sie muss aktiv gelebt\, geschützt und weiterentwickelt werden. Alle Bürgerinnen und Bürger sind eingeladen\, gemeinsam für ein weltoffenes\, tolerantes und demokratisches Bothfeld-Vahrenheide einzustehen.\nDas Programm für diesen Tag erscheint Anfang Mai im Stadtteilmagazin Bothfeld und wird  auch als Flyer u.a. im Kulturtreff Bothfeld erhältlich sein. \nDer Kulturtreff Bothfeld beteiligt sich mit folgendem Angebot:\nFreitag 23.5.2025\nWorkshops Demokratiestärkung (je 1\,5 Stunden)\n13:00 im Kulturtreff Vahrenheide (Achtung: Anmeldung über Kulturtreff Bothfeld)\n16:30 im Kulturtreff Bothfeld \n“Umgang mit rechten\, diskriminierenden Parolen”. Der Arbeitskollege zieht über Minderheiten her? Im Bus beschimpft ein Fahrgast eine Kopftuchträgerin? Die Tante sprengt die Familienfeier mit diskriminierenden Sprüchen? Wer sich in solchen Momenten sprachlos fühlt und sich nachher am meisten über sich selbst ärgert – nämlich darüber\, dass er/sie nichts dazu gesagt hat – der/die ist in diesem interaktiven Kurzworkshop richtig. Schweigen kann Zustimmung bedeuten und wir wollen gegen das Schweigen angehen. Zumindest Menschen\, die in ihrer eigenen Haltung verunsichert sind\, können wir so erreichen. Und wir können in unserem Stadtbezirk Bothfeld-Vahrenheide für ein Klima sorgen\, welches rechtsextreme und demokratiefeindliche Äußerungen nicht einfach hinnimmt. Der Schwerpunkt des Workshops liegt auf dem Ausprobieren und Einüben verschiedener Gesprächstechniken. Offenheit und ein aktives Mitmachen werden daher vorausgesetzt. Vorkenntnisse sind nicht erforderlich.\nLeitung: Helga B. Gundlach (Trainerin\, Beraterin und Moderatorin)\nKostenfrei.Vorherige Anmeldung im Kulturtreff Bothfeld erforderlich!
URL:https://www.kulturtreffbothfeld.de/events/stadtbezirkstag-gegen-rechtsextremismus/
CATEGORIES:Einzelveranstaltungen,Programm,Veranstaltungen
END:VEVENT
BEGIN:VEVENT
DTSTART;TZID=Europe/Berlin:20250524T153000
DTEND;TZID=Europe/Berlin:20250524T183000
DTSTAMP:20260422T071138
CREATED:20250410T070706Z
LAST-MODIFIED:20250402T071716Z
UID:12190-1748100600-1748111400@www.kulturtreffbothfeld.de
SUMMARY:Workshop kreative Schreibtherapie
DESCRIPTION:Schreiben hilft und inspiriert\nDieser Workshop richtet sich an Menschen\, die in oder nach einer schwierigen Lebensphase etwas für sich tun möchten. Die kreative Schreibtherapie kann dazu beitragen\, den Alltag weniger sorgenvoll zu erleben und konstruktiv mit den individuellen Herausforderungen umzugehen. Mit gezielten Schreibimpulsen wollen wir herausfinden\, was im Moment trägt und welche Kraftquellen sich auftun. Schreiben macht Spaß\, inspiriert und belebt unsere inneren Ressourcen. Für die Teilnahme sind keinerlei Vorkenntnisse erforderlich\, lediglich Stift\, Papier und eine Portion Neugierde sollten Sie mitbringen.\nDr. med. Julia Schwerdtfeger (Frauenärztin/Psychotherapie\, Schreibtherapeutin)\n(mind. 6\, max 10 TN)\nTeilnahmebeitrag: 15\,- €\nVorherige Anmeldung und Bezahlung erforderlich.
URL:https://www.kulturtreffbothfeld.de/events/workshop-kreative-schreibtherapie-6/
CATEGORIES:Einzelveranstaltungen,Programm,Veranstaltungen
END:VEVENT
BEGIN:VEVENT
DTSTART;TZID=Europe/Berlin:20250527T150000
DTEND;TZID=Europe/Berlin:20250527T164500
DTSTAMP:20260422T071138
CREATED:20250327T104154Z
LAST-MODIFIED:20250327T104154Z
UID:12136-1748358000-1748364300@www.kulturtreffbothfeld.de
SUMMARY:Kaffeezeit mit Klönschnack und mehr
DESCRIPTION:Eine Möglichkeit\, um neue Menschen und alte Bekannte im Stadtteil zu treffen und zwei gesellige Stunden bei Kaffee/Tee\, Kuchen oder frischgebackenen Waffeln zu verbringen. Ein kleines Überraschungsangebot wird auch nicht fehlen: mal kreativ\, mal bewegend\, mal musikalisch\, mal nachdenklich\, mal was ganz Anderes… Seien Sie neugierig. Kommen Sie vorbei. Herzlich willkommen!\nUm vorherige Anmeldung wird gebeten. \n 
URL:https://www.kulturtreffbothfeld.de/events/kaffeezeit-mit-kloenschnack-und-mehr-19/
CATEGORIES:Einzelveranstaltungen,Kaffeezeit für SeniorInnen,Programm,Veranstaltungen
END:VEVENT
END:VCALENDAR