BEGIN:VCALENDAR
VERSION:2.0
PRODID:-//Kulturtreff Bothfeld - ECPv6.15.20//NONSGML v1.0//EN
CALSCALE:GREGORIAN
METHOD:PUBLISH
X-ORIGINAL-URL:https://www.kulturtreffbothfeld.de
X-WR-CALDESC:Veranstaltungen für Kulturtreff Bothfeld
REFRESH-INTERVAL;VALUE=DURATION:PT1H
X-Robots-Tag:noindex
X-PUBLISHED-TTL:PT1H
BEGIN:VTIMEZONE
TZID:Europe/Berlin
BEGIN:DAYLIGHT
TZOFFSETFROM:+0100
TZOFFSETTO:+0200
TZNAME:CEST
DTSTART:20240331T010000
END:DAYLIGHT
BEGIN:STANDARD
TZOFFSETFROM:+0200
TZOFFSETTO:+0100
TZNAME:CET
DTSTART:20241027T010000
END:STANDARD
BEGIN:DAYLIGHT
TZOFFSETFROM:+0100
TZOFFSETTO:+0200
TZNAME:CEST
DTSTART:20250330T010000
END:DAYLIGHT
BEGIN:STANDARD
TZOFFSETFROM:+0200
TZOFFSETTO:+0100
TZNAME:CET
DTSTART:20251026T010000
END:STANDARD
BEGIN:DAYLIGHT
TZOFFSETFROM:+0100
TZOFFSETTO:+0200
TZNAME:CEST
DTSTART:20260329T010000
END:DAYLIGHT
BEGIN:STANDARD
TZOFFSETFROM:+0200
TZOFFSETTO:+0100
TZNAME:CET
DTSTART:20261025T010000
END:STANDARD
END:VTIMEZONE
BEGIN:VEVENT
DTSTART;TZID=Europe/Berlin:20250812T093000
DTEND;TZID=Europe/Berlin:20250812T150000
DTSTAMP:20260422T014619
CREATED:20250401T092405Z
LAST-MODIFIED:20250401T092405Z
UID:12179-1754991000-1755010800@www.kulturtreffbothfeld.de
SUMMARY:FerienCard: Daumenkinos
DESCRIPTION:Workshop 1: 9:30 – 12:00 Uhr\n Workshop 2: 12:30 – 15:00 Uhr\nFerienCard: Daumenkinos – Kino für die Hosentasche\nWir bringen Bilder zum Laufen und zeichnen unsere eigenen Mini-Trickfilme! Mit Bleistift\, Papier\, einer Foldback-Klammer und etwas Geduld zeichnen wir in diesem Workshop eine kurze Geschichte oder die Bewegung einer Figur. Doch zuerst wird der Ablauf und die Anzahl der Bilder bestimmt\, danach gibts noch eine winzige Einführung in das Thema: „Animieren und die Zeit“ und dann kann es schon losgehen. Die Bilder werden beim Daumenkino entweder immer wieder durchgepauscht oder es kommen selbstgemachte Schablonen zum Einsatz. So oder so macht es Spaß\, den Bildern „das Laufen“ beizubringen. Am Ende haben alle einen fertigen kleinen Film zum Mitnehmen.\nFür Kinder von 9 bis 12 Jahren.\nLeitung: Timo Stoffregen\nKostenbeitrag: 3\,- € mit FerienCard\, 1\,50 € mit HAP\nAnmeldung über: https://die-feriencard-hannover.de/
URL:https://www.kulturtreffbothfeld.de/events/feriencard-daumenkinos/
CATEGORIES:Kinder,Programm,Veranstaltungen
END:VEVENT
BEGIN:VEVENT
DTSTART;TZID=Europe/Berlin:20250826T150000
DTEND;TZID=Europe/Berlin:20250826T163000
DTSTAMP:20260422T014619
CREATED:20250708T085612Z
LAST-MODIFIED:20250708T085612Z
UID:12443-1756220400-1756225800@www.kulturtreffbothfeld.de
SUMMARY:Kaffeezeit mit Klönschnack
DESCRIPTION:Eine Möglichkeit\, um neue Menschen und alte Bekannte im Stadtteil zu treffen und zwei gesellige Stunden bei Kaffee/Tee\, Kuchen oder frischgebackenen Waffeln zu verbringen. Seien Sie neugierig. Kommen Sie vorbei. Herzlich willkommen!\nUm vorherige Anmeldung wird gebeten\, damit wir kalkulieren können.
URL:https://www.kulturtreffbothfeld.de/events/kaffeezeit-mit-kloenschnack/
CATEGORIES:Einzelveranstaltungen,Kaffeezeit für SeniorInnen,Programm,Veranstaltungen
END:VEVENT
BEGIN:VEVENT
DTSTART;TZID=Europe/Berlin:20250829T180000
DTEND;TZID=Europe/Berlin:20250829T210000
DTSTAMP:20260422T014619
CREATED:20250803T222414Z
LAST-MODIFIED:20250707T092612Z
UID:12357-1756490400-1756501200@www.kulturtreffbothfeld.de
SUMMARY:Sommerfest
DESCRIPTION:Den Feierabend genießen\, das Wochenende begrüßen\, mit bekannten und neuen Menschen einen hoffentlich lauschigen Abend verbringen: auf unserer Terrasse\, im grünen Innenhof und in den Räumen des Kulturtreffs erwarten wir Sie zu einem fröhlichen Beisammensein mit Live-Musik\, Gegrilltem\, Salaten und Getränken. Schauen Sie doch einfach vorbei!\nMusikalisch wird das Duo Lison-Bernsmann für Genuss sorgen: Aleksandra Lison ist ein Nachwuchstalent der deutschen Jazzszene. Ihr reduzierter\, geschmackvoller Stil\, ihre warme\, klare Altstimme lassen aufhorchen. Lars Bernsmann hat als Gitarrist mit zahlreichen Musiker*innen innerhalb und außerhalb Hannovers zusammengearbeitet. Gemeinsam präsentiert das Duo zeitlose und bekannte Jazzstandards – mal gefühlvoll\, mal mit Schwung\, aber stets zugänglich und unterhaltsam.
URL:https://www.kulturtreffbothfeld.de/events/sommerfest-2/
CATEGORIES:Einzelveranstaltungen,Programm,Veranstaltungen
END:VEVENT
END:VCALENDAR