BEGIN:VCALENDAR
VERSION:2.0
PRODID:-//Kulturtreff Bothfeld - ECPv6.15.20//NONSGML v1.0//EN
CALSCALE:GREGORIAN
METHOD:PUBLISH
X-ORIGINAL-URL:https://www.kulturtreffbothfeld.de
X-WR-CALDESC:Veranstaltungen für Kulturtreff Bothfeld
REFRESH-INTERVAL;VALUE=DURATION:PT1H
X-Robots-Tag:noindex
X-PUBLISHED-TTL:PT1H
BEGIN:VTIMEZONE
TZID:Europe/Berlin
BEGIN:DAYLIGHT
TZOFFSETFROM:+0100
TZOFFSETTO:+0200
TZNAME:CEST
DTSTART:20240331T010000
END:DAYLIGHT
BEGIN:STANDARD
TZOFFSETFROM:+0200
TZOFFSETTO:+0100
TZNAME:CET
DTSTART:20241027T010000
END:STANDARD
BEGIN:DAYLIGHT
TZOFFSETFROM:+0100
TZOFFSETTO:+0200
TZNAME:CEST
DTSTART:20250330T010000
END:DAYLIGHT
BEGIN:STANDARD
TZOFFSETFROM:+0200
TZOFFSETTO:+0100
TZNAME:CET
DTSTART:20251026T010000
END:STANDARD
BEGIN:DAYLIGHT
TZOFFSETFROM:+0100
TZOFFSETTO:+0200
TZNAME:CEST
DTSTART:20260329T010000
END:DAYLIGHT
BEGIN:STANDARD
TZOFFSETFROM:+0200
TZOFFSETTO:+0100
TZNAME:CET
DTSTART:20261025T010000
END:STANDARD
END:VTIMEZONE
BEGIN:VEVENT
DTSTART;TZID=Europe/Berlin:20251104T190000
DTEND;TZID=Europe/Berlin:20251104T210000
DTSTAMP:20260421T211544
CREATED:20250803T221305Z
LAST-MODIFIED:20250929T095642Z
UID:12397-1762282800-1762290000@www.kulturtreffbothfeld.de
SUMMARY:Hannover sehen und sterben - Lesung mit Thorsten Sueße
DESCRIPTION:Ein hannoverscher Bestsellerautor wird abends vor seinem Haus von einer unbekannten Gestalt getötet. Der 20-jährige Paul befürchtet\, der Täter zu sein\, kann sich jedoch an nichts erinnern. Kurz darauf beginnt der renommierte Psychiater Dr. Mark Seifert eine heimliche Affäre mit Pauls Mutter und bringt damit eine tödliche Kaskade ins Rollen.\nGelingt es Mark Seifert mit seinem kriminalistischen Spürsinn\, die Hintergründe der Tötungsserie aufzudecken\, bevor der Täter ein weiteres Mal zuschlägt?\nWie die Hauptfigur Dr. Mark Seifert ist auch der Autor Dr. Thorsten Sueße Facharzt für Psychiatrie\, Psychotherapie und Psychosomatische Medizin und leitet den Sozialpsychiatrischen Dienst der Region Hannover. Bei der Handlung seiner Kriminalromane orientiert er sich an seinem eigenen Arbeitsalltag\, der durch eine regelmäßige Zusammenarbeit mit der Polizei Hannover geprägt ist. Daneben betätigt er sich als Schauspieler am Theater\, in Film- und Fernsehproduktionen. Seine Lesungen vermag er daher stimmlich abwechslungsreich und spannend zu gestalten.\nEintritt: 8\,- € / erm 6\,- €\nUm vorherige Anmeldung wird gebeten. \nEine Veranstaltung im Rahmen des Wortlaut-Festivals. Weitere Infos dazu finden Sie hier \n \n  \n 
URL:https://www.kulturtreffbothfeld.de/events/hannover-sehen-und-sterben-lesung-mit-thorsten-suesse/
CATEGORIES:Einzelveranstaltungen,Programm,Veranstaltungen
END:VEVENT
BEGIN:VEVENT
DTSTART;TZID=Europe/Berlin:20251111T180000
DTEND;TZID=Europe/Berlin:20251111T190000
DTSTAMP:20260421T211544
CREATED:20250803T220940Z
LAST-MODIFIED:20251028T081343Z
UID:12350-1762884000-1762887600@www.kulturtreffbothfeld.de
SUMMARY:Vernissage Maryam Alijani Zamani
DESCRIPTION:Ausstellung Maryam Alijani Zamani \nMaryam Alijani Zamani hat in ihrer früheren Heimat\, dem Iran\, Malerei und Zeichnen studiert und erteilt seit vielen Jahren Malunterricht. Sie widmet sich vor allem dem Realismus und Fotorealismus\, wobei ihre Zeichnungen kaum mehr von einer Fotografie zu unterscheiden sind. Es gelingt ihr\, Menschengesichter und andere Motive absolut naturgetreu darzustellen. Die Künstlerin beherrscht aber auch nahezu alle anderen Techniken der Malerei und arbeitet mit Kohlestiften\, Buntstiften\, Pastell-\, Öl-\, Acryl-\, Aquarellfarben und Textur.\nSehen Sie selbst!  \nZur Vernissage am Dienstag\, 11.11.\, um 18.00 Uhr mit Live-Malen laden wir Sie herzlich ein.\nVoranmeldung erbeten.
URL:https://www.kulturtreffbothfeld.de/events/vernissage-maryam-alijani-zamani/
CATEGORIES:Einzelveranstaltungen,Programm,Veranstaltungen
END:VEVENT
BEGIN:VEVENT
DTSTART;TZID=Europe/Berlin:20251114T190000
DTEND;TZID=Europe/Berlin:20251114T210000
DTSTAMP:20260421T211544
CREATED:20250803T220458Z
LAST-MODIFIED:20250708T081451Z
UID:12414-1763146800-1763154000@www.kulturtreffbothfeld.de
SUMMARY:"Entdeckung" - Das Szymborska-Projekt
DESCRIPTION:Eine Hommage an die polnische Lyrikerin und Literaturnobelpreisträgerin Wisława Szymborska\nWislawa Szymborskas zauberhafte und zeitlose Gedichte gehören in Polen zur Nationalliteratur\, Übersetzungen wurden auch im deutschsprachigen Raum bekannt. Alltägliche Begebenheiten betrachtet sie immer wieder aus ungewöhnlichen Perspektiven. Mit leichter Hand nähert sie sich philosophischen Fragen und stellt erstaunliche Bezüge her\, die das Eigene mit der Welt verbinden. Scheinbar mühelos greift sie mit zarter Ironie zutiefst menschliche Themen auf und überrascht die Leser*innen immer wieder aufs Neue.\nAlix Dudel (Sängerin\, Schauspielerin und Sprecherin) und Celina Muza (Schauspielerin\, Komponistin und Sängerin aus Polen) haben Gedichte der Lyrikerin ausgewählt\, biografische Gegebenheiten recherchiert und in Zusammenarbeit mit der Cellistin Michaela von Pilsach diesen literarisch-musikalischen Abend entwickelt.\nEintritt: 8\,-€/HAP 4\,-€\nOrt: Stadtteiltreff Sahlkamp\, Elmstr. 15\nVorherige Anmeldung erbeten.\nEine gemeinsame Veranstaltung von Kultur-Nord-Ost (Kulturtreff Bothfeld\, Kulturtreff Vahrenheide und Stadtteiltreff Sahlkamp)
URL:https://www.kulturtreffbothfeld.de/events/entdeckung-das-szymborska-projekt/
CATEGORIES:Einzelveranstaltungen,Programm,Veranstaltungen
END:VEVENT
BEGIN:VEVENT
DTSTART;TZID=Europe/Berlin:20251116T150000
DTEND;TZID=Europe/Berlin:20251116T180000
DTSTAMP:20260421T211544
CREATED:20250803T221822Z
LAST-MODIFIED:20250925T090116Z
UID:12418-1763305200-1763316000@www.kulturtreffbothfeld.de
SUMMARY:Workshop: Schreiben(d) entdecken
DESCRIPTION:Der Workshop ist leider ausgebucht\, nur noch Warteliste möglich.\nSchreiben ist mehr\, als nur Wörter aneinanderzusetzen. Beim Schreiben gehst du inneren Bildern und Erinnerungen nach\, führst sie weiter\, lässt aus ihnen etwas Neues entstehen. Beim Schreiben kannst und wirst du dich selbst und andere überraschen.\nIn dieser Werkstatt erproben wir verschiedene Wege\, um ins Schreiben zu kommen. Wir lassen uns von Gegenständen\, Bildern und Klängen inspirieren und schreiben dazu kurze\, erzählende oder lyrische Texte. Die Ergebnisse stellen wir uns gegenseitig vor und überlegen\, wohin sich die Texte weiterentwickeln könnten.\nEigene Schreiberfahrungen sind keine Voraussetzung\, um an der Werkstatt teilzunehmen.\nIn Kooperation mit dem Autor:innenzentrum Hannover\nBurkhard Wetekam (Autor)\nTeilnahmebeitrag: 7\,50 €\nVorherige Anmeldung im Kulturtreff erforderlich.\nIm Rahmen der Reihe “Hannover in Kapiteln”
URL:https://www.kulturtreffbothfeld.de/events/workshop-schreibend-entdecken/
CATEGORIES:Einzelveranstaltungen,Programm,Veranstaltungen
END:VEVENT
BEGIN:VEVENT
DTSTART;TZID=Europe/Berlin:20251118T150000
DTEND;TZID=Europe/Berlin:20251118T163000
DTSTAMP:20260421T211544
CREATED:20250708T085814Z
LAST-MODIFIED:20250708T085814Z
UID:12447-1763478000-1763483400@www.kulturtreffbothfeld.de
SUMMARY:Kaffeezeit mit Klönschnack
DESCRIPTION:Eine Möglichkeit\, um neue Menschen und alte Bekannte im Stadtteil zu treffen und zwei gesellige Stunden bei Kaffee/Tee\, Kuchen oder frischgebackenen Waffeln zu verbringen. Seien Sie neugierig. Kommen Sie vorbei. Herzlich willkommen!\nUm vorherige Anmeldung wird gebeten\, damit wir kalkulieren können.
URL:https://www.kulturtreffbothfeld.de/events/kaffeezeit-mit-kloenschnack-3/
CATEGORIES:Einzelveranstaltungen,Kaffeezeit für SeniorInnen,Programm,Veranstaltungen
END:VEVENT
BEGIN:VEVENT
DTSTART;TZID=Europe/Berlin:20251118T180000
DTEND;TZID=Europe/Berlin:20251118T193000
DTSTAMP:20260421T211544
CREATED:20250803T225243Z
LAST-MODIFIED:20250925T081823Z
UID:12379-1763488800-1763494200@www.kulturtreffbothfeld.de
SUMMARY:Schnupper-Tanzabend: Country Lindedance
DESCRIPTION:Die Veranstaltung ist leider ausgebucht!\nLinedance ist Gruppentanz zur Country Musik\, bei der die Tänzer*innen in Reihen (Lines) stehen. Man braucht also keine/n direkte/n Tanzpartner*in und kann sich für den Abend sowohl alleine als auch als Paar anmelden.\nDie Tänze bestehen aus verschiedenen Grundelementen\, die für jeden Tanz neu kombiniert werden. Die Schrittfolgen werden vorab erklärt und festgelegt.\nOb in Jeans oder Rock – was Sie vor allem brauchen\, ist gute Laune! Und gern ein paar Schuhe mit glatter Sohle\, damit auch Drehungen auf der Stelle leicht auszuführen sind. \nLeitung: Tamara Scholz (Nashville Linedancers Hannover) bitte Logo benutzen\nTeilnahmegebühr: 6\,-€ /erm. 5.-€ \nKeine Vorkenntnisse erforderlich \nBitte bequeme Kleidung/Schuhe tragen und etwas zu trinken mitbringen. \nVorherige Anmeldung und Bezahlung erforderlich.
URL:https://www.kulturtreffbothfeld.de/events/schnupper-tanzabend-country-lindedance/
CATEGORIES:Einzelveranstaltungen,Programm,Veranstaltungen
END:VEVENT
BEGIN:VEVENT
DTSTART;TZID=Europe/Berlin:20251119T163000
DTEND;TZID=Europe/Berlin:20251119T183000
DTSTAMP:20260421T211544
CREATED:20250803T222625Z
LAST-MODIFIED:20250925T082033Z
UID:12421-1763569800-1763577000@www.kulturtreffbothfeld.de
SUMMARY:Workshop: Schokolade mit gutem Gewissen
DESCRIPTION:Die Veranstaltung ist leider ausgebucht\, nur noch Warteliste möglich.\nSchokolade mag fast jeder Mensch. Daher kann es sehr interessant sein\, mehr über ihre Bestandteile und Herkunft – und natürlich über verschiedene Geschmäcker zu erfahren. In diesem Workshop können die verschiedenen Aspekte der Schokoladenherstellung kennengelernt werden. Wir schauen uns gemeinsam die Rohstoffe Kakao und Kakaobutter und deren Verarbeitung zur Schokolade an. Ein wichtiger Aspekt ist dabei der Faire Handel\, der eine Option für mehr Gerechtigkeit und menschenwürdige Lebens- und Arbeitsbedingungen der Kakaobauern bietet.\nZum Abschluss stellen wir gemeinsam eine Schokoladencreme her (bitte ein keines Schraubglas o.ä. mitbringen).\nLeitung: Katharina Matuschke-Graf\nTeilnahmebeitrag: 10\,-€\nVorherige Anmeldung und Bezahlung erforderlich.\nin Zusammenarbeit mit dem Nachhaltigkeitsbüro der Landeshauptstadt Hannover\n \n 
URL:https://www.kulturtreffbothfeld.de/events/workshop-schokolade-mit-gutem-gewissen/
CATEGORIES:Einzelveranstaltungen,Programm,StadteilKULTUR-NATURverbunden,Veranstaltungen
END:VEVENT
BEGIN:VEVENT
DTSTART;TZID=Europe/Berlin:20251125T193000
DTEND;TZID=Europe/Berlin:20251125T210000
DTSTAMP:20260421T211544
CREATED:20250803T223121Z
LAST-MODIFIED:20250708T093429Z
UID:12426-1764099000-1764104400@www.kulturtreffbothfeld.de
SUMMARY:Konzert: Masithi-Gospel-Chor
DESCRIPTION:Seit 25 Jahren entführt der mitreißende Masithi Chor aus Eilvese – Nähe Neustadt am Rübenberge – sein Publikum auf eine emotionale Reise durch die Welt der Gospels und afrikanischen Lieder\, wo jede Note eine Geschichte erzählt und jedes Lied eine Brücke zwischen Kulturen und Herzen schlägt. Lassen Sie sich mitreißen und reisen Sie mit!\nChorleitung: Christina Schlicker\nKostenlos\, um eine angemessene Spende wird gebeten.\nUm vorherige Anmeldung wird gebeten.
URL:https://www.kulturtreffbothfeld.de/events/konzert-masithi-gospel-chor/
CATEGORIES:Einzelveranstaltungen,Programm,Veranstaltungen
END:VEVENT
BEGIN:VEVENT
DTSTART;TZID=Europe/Berlin:20251129T153000
DTEND;TZID=Europe/Berlin:20251129T183000
DTSTAMP:20260421T211544
CREATED:20250803T220318Z
LAST-MODIFIED:20250930T095515Z
UID:12387-1764430200-1764441000@www.kulturtreffbothfeld.de
SUMMARY:Workshop kreative Schreibtherapie 2
DESCRIPTION:Der Workshop ist leider ausgebucht\, nur noch Warteliste möglich.\nSchreiben hilft und inspiriert\nDieser Workshop richtet sich an Menschen\, die in oder nach einer schwierigen Lebensphase etwas für sich tun möchten. Die kreative Schreibtherapie kann dazu beitragen\, den Alltag weniger sorgenvoll zu erleben und konstruktiv mit den individuellen Herausforderungen umzugehen. Mit gezielten Schreibimpulsen wollen wir herausfinden\, was im Moment trägt und welche Kraftquellen sich auftun. Schreiben macht Spaß\, inspiriert und belebt unsere inneren Ressourcen. Für die Teilnahme sind keinerlei Vorkenntnisse erforderlich\, lediglich Stift\, Papier und eine Portion Neugierde sollten Sie mitbringen.\nDr. med. Julia Schwerdtfeger (Frauenärztin/Psychotherapie\, Schreibtherapeutin)\n(mind. 6\, max. 10 TN)\nTeilnahmebeitrag: 15\,- € pro Termin\nVorherige Anmeldung und Bezahlung erforderlich.
URL:https://www.kulturtreffbothfeld.de/events/workshop-kreative-schreibtherapie-2-2/
CATEGORIES:Einzelveranstaltungen,Programm,Veranstaltungen
END:VEVENT
END:VCALENDAR