BEGIN:VCALENDAR
VERSION:2.0
PRODID:-//Kulturtreff Bothfeld - ECPv6.15.20//NONSGML v1.0//EN
CALSCALE:GREGORIAN
METHOD:PUBLISH
X-ORIGINAL-URL:https://www.kulturtreffbothfeld.de
X-WR-CALDESC:Veranstaltungen für Kulturtreff Bothfeld
REFRESH-INTERVAL;VALUE=DURATION:PT1H
X-Robots-Tag:noindex
X-PUBLISHED-TTL:PT1H
BEGIN:VTIMEZONE
TZID:Europe/Berlin
BEGIN:DAYLIGHT
TZOFFSETFROM:+0100
TZOFFSETTO:+0200
TZNAME:CEST
DTSTART:20250330T010000
END:DAYLIGHT
BEGIN:STANDARD
TZOFFSETFROM:+0200
TZOFFSETTO:+0100
TZNAME:CET
DTSTART:20251026T010000
END:STANDARD
BEGIN:DAYLIGHT
TZOFFSETFROM:+0100
TZOFFSETTO:+0200
TZNAME:CEST
DTSTART:20260329T010000
END:DAYLIGHT
BEGIN:STANDARD
TZOFFSETFROM:+0200
TZOFFSETTO:+0100
TZNAME:CET
DTSTART:20261025T010000
END:STANDARD
BEGIN:DAYLIGHT
TZOFFSETFROM:+0100
TZOFFSETTO:+0200
TZNAME:CEST
DTSTART:20270328T010000
END:DAYLIGHT
BEGIN:STANDARD
TZOFFSETFROM:+0200
TZOFFSETTO:+0100
TZNAME:CET
DTSTART:20271031T010000
END:STANDARD
END:VTIMEZONE
BEGIN:VEVENT
DTSTART;TZID=Europe/Berlin:20260203T170000
DTEND;TZID=Europe/Berlin:20260203T183000
DTSTAMP:20260421T121249
CREATED:20260104T233525Z
LAST-MODIFIED:20251215T105235Z
UID:12766-1770138000-1770143400@www.kulturtreffbothfeld.de
SUMMARY:Schnupper-Tanzabend: Meditation im Tanz
DESCRIPTION:„Tanz ist die verborgene Sprache der Seele (M. Graham)\nWir tanzen ruhige bis bewegte Kreistänze. Schrittfolgen zu lernen steht nicht im Vordergrund\, sondern die Freude\, sich nach Musik zu bewegen.\nLeitung: Ursula Skop\nTeilnahmegebühr: 6\,-€ /erm. 5\,-€\nKeine Vorkenntnisse erforderlich.\nBitte bequeme Kleidung/Schuhe tragen und etwas zu trinken mitbringen.\nVorherige Anmeldung und Bezahlung erforderlich.
URL:https://www.kulturtreffbothfeld.de/events/schnupper-tanzabend-meditation-im-tanz/
CATEGORIES:Einzelveranstaltungen,Programm,Veranstaltungen
END:VEVENT
BEGIN:VEVENT
DTSTART;TZID=Europe/Berlin:20260210T183000
DTEND;TZID=Europe/Berlin:20260210T203000
DTSTAMP:20260421T121249
CREATED:20260104T234100Z
LAST-MODIFIED:20251215T105211Z
UID:12770-1770748200-1770755400@www.kulturtreffbothfeld.de
SUMMARY:Multivisionsvortrag
DESCRIPTION:„Chile und Argentinien – von Patagonien zur Atacama“\n\nAus dem tiefen Süden Patagoniens\, vom Rand Feuerlands\, reisen wir durch den Süden von Argentinien und Chile bis in die nördliche Spitze des Landes\, in die Atacama-Wüste. Sie ist eine der trockensten Wüsten der Welt in den Hochlagen der Anden. Unterwegs gibt es atemberaubende Einblicke in die Welt der größten Landeisgletscher\, Wanderungen im chilenischen Nationalpark Torres del Paine\, die immer noch rauchenden Vulkane bei Pucón bis hin zur „argentinischen Schweiz“. Den Gegensatz zu Einsamkeit und Natur bieten ein Besuch in Santiago de Chile und der Hafenstadt Valparaíso.\nSie erhalten Eindrücke von ganz verschiedene Klimazonen und Lebensbedingungen\, von dem kargen und durch Schafzüchterdynastien geprägten Patagonien über das landschaftlich liebliche und daher von vielen europäischen Einwanderern bevorzugte Mittelchile bis in den hohen Norden\, in dem zumeist eine nach wie vor indigene Bevölkerung lebt.\nUwe Grund\nAnmeldung erbeten.\nEintritt frei\, um eine angemessene Spende wird gebeten.
URL:https://www.kulturtreffbothfeld.de/events/multivisionsvortrag-2/
CATEGORIES:Einzelveranstaltungen,Programm,Veranstaltungen
END:VEVENT
BEGIN:VEVENT
DTSTART;TZID=Europe/Berlin:20260217T150000
DTEND;TZID=Europe/Berlin:20260217T163000
DTSTAMP:20260421T121249
CREATED:20251211T110217Z
LAST-MODIFIED:20251211T110217Z
UID:12750-1771340400-1771345800@www.kulturtreffbothfeld.de
SUMMARY:Kaffeezeit mit Klönschnack
DESCRIPTION:Eine Möglichkeit neue Menschen und alte Bekannte im Stadtteil zu treffen und gemeinsam Zeit bei Kaffee/Tee\, Kuchen oder frischgebackenen Waffeln zu verbringen. Das ist die Kaffeezeit.\nKommen Sie vorbei. Bringen Sie sich ein. Seien Sie herzlich willkommen!\nAnmeldung erbeten.
URL:https://www.kulturtreffbothfeld.de/events/kaffeezeit-mit-kloenschnack-5/
CATEGORIES:Einzelveranstaltungen,Kaffeezeit für SeniorInnen,Programm,Veranstaltungen
END:VEVENT
BEGIN:VEVENT
DTSTART;TZID=Europe/Berlin:20260217T183000
DTEND;TZID=Europe/Berlin:20260217T200000
DTSTAMP:20260421T121249
CREATED:20251211T111850Z
LAST-MODIFIED:20260216T084006Z
UID:12755-1771353000-1771358400@www.kulturtreffbothfeld.de
SUMMARY:Film mit Diskussion: „Ohne Chefs – Demokratie bei der Arbeit“
DESCRIPTION:Geht ein Leben auch ohne Chefs? Können wir Wirtschaft auch demokratischer und solidarischer denken? Der gerade erschienene Dokumentarfilm (Regie: Mario Burbach) zeigt Menschen in Kollektivbetrieben und Kooperativen\, die ihr Arbeitsleben selbst in die Hand nehmen – keine verstrahlten Utopisten\, sondern Praktiker:innen\, die eine andere\, gerechtere und hierarchiefreie Wirtschaftsform zur Realität machen. In ihrem Alltag sind gelebte Demokratie und Solidarität wichtige Selbstverständlichkeiten. »Ohne Chefs« macht Mut\, Wirtschaft neu zu denken – gemeinschaftlich\, solidarisch und kollektiv.\nAndreas Felsen vom Hamburger Kaffeeröstereikollektiv “Quijote” (und Mitinitiator des Films) wird als Gast und Diskussionspartner wegen Erkrankung leider nicht anwesend sein.\nFilmdauer: 54 Minuten\nKostenlos – um eine Spende wird gebeten. Vorherige Anmeldung erwünscht.\nIn Kooperation mit dem Kulturtreff Roderbruch.\nEine Veranstaltung im Rahmen des Projektes „Demokratie: Dialog“\, gefördert von der LHH.
URL:https://www.kulturtreffbothfeld.de/events/film-mit-diskussion-ohne-chefs-demokratie-bei-der-arbeit/
CATEGORIES:Einzelveranstaltungen,Programm,Veranstaltungen
END:VEVENT
BEGIN:VEVENT
DTSTART;TZID=Europe/Berlin:20260227T190000
DTEND;TZID=Europe/Berlin:20260227T203000
DTSTAMP:20260421T121249
CREATED:20260104T234338Z
LAST-MODIFIED:20251215T105139Z
UID:12773-1772218800-1772224200@www.kulturtreffbothfeld.de
SUMMARY:Musik und Anekdoten
DESCRIPTION:Klassische Gitarrenmusik und Begebenheiten aus dem spannenden Alltag eines Bothfelders werden präsentiert\, nach Art der bekannten „Lüttjen Lagen“ aus der HAZ. Gitarrenstücke von Legnani\, Linnemann\, Mertz\, Tarrega u. a. wechseln sich ab mit Anekdoten und pointierten Betrachtungen aus dem täglichen Leben.\nEs spielt Dieter Schmidt und es liest Ingolf Dumke.\n \nGegen Spende vor Ort.\nUm vorherige Anmeldung wird gebeten.
URL:https://www.kulturtreffbothfeld.de/events/musik-und-anekdoten-4/
CATEGORIES:Einzelveranstaltungen,Programm,Veranstaltungen
END:VEVENT
END:VCALENDAR