BEGIN:VCALENDAR
VERSION:2.0
PRODID:-//Kulturtreff Bothfeld - ECPv6.15.20//NONSGML v1.0//EN
CALSCALE:GREGORIAN
METHOD:PUBLISH
X-WR-CALNAME:Kulturtreff Bothfeld
X-ORIGINAL-URL:https://www.kulturtreffbothfeld.de
X-WR-CALDESC:Veranstaltungen für Kulturtreff Bothfeld
REFRESH-INTERVAL;VALUE=DURATION:PT1H
X-Robots-Tag:noindex
X-PUBLISHED-TTL:PT1H
BEGIN:VTIMEZONE
TZID:Europe/Berlin
BEGIN:DAYLIGHT
TZOFFSETFROM:+0100
TZOFFSETTO:+0200
TZNAME:CEST
DTSTART:20250330T010000
END:DAYLIGHT
BEGIN:STANDARD
TZOFFSETFROM:+0200
TZOFFSETTO:+0100
TZNAME:CET
DTSTART:20251026T010000
END:STANDARD
BEGIN:DAYLIGHT
TZOFFSETFROM:+0100
TZOFFSETTO:+0200
TZNAME:CEST
DTSTART:20260329T010000
END:DAYLIGHT
BEGIN:STANDARD
TZOFFSETFROM:+0200
TZOFFSETTO:+0100
TZNAME:CET
DTSTART:20261025T010000
END:STANDARD
BEGIN:DAYLIGHT
TZOFFSETFROM:+0100
TZOFFSETTO:+0200
TZNAME:CEST
DTSTART:20270328T010000
END:DAYLIGHT
BEGIN:STANDARD
TZOFFSETFROM:+0200
TZOFFSETTO:+0100
TZNAME:CET
DTSTART:20271031T010000
END:STANDARD
END:VTIMEZONE
BEGIN:VEVENT
DTSTART;TZID=Europe/Berlin:20260601T160000
DTEND;TZID=Europe/Berlin:20260601T180000
DTSTAMP:20260421T125603
CREATED:20260401T131227Z
LAST-MODIFIED:20260317T141427Z
UID:13073-1780329600-1780336800@www.kulturtreffbothfeld.de
SUMMARY:Planungs- und Bauworkshop: Gemeinsam für den Dialog
DESCRIPTION:Gemeinsame Gestaltung eines Sitzobjektes \nWir suchen Menschen\, die planerisch und handwerklich aktiv werden möchten\, um etwas für die (Stadtteil-) Gemeinschaft zu bauen. Nämlich: ein Objekt\, auf dem sich Menschen gerne niederlassen und das zum Dialog anregen kann. \nBeim Planungsworkshop wird erarbeitet\, was dieses Objekt können\, wie es aussehen soll und was dafür nötig sein wird.\nIn der Werk-statt-Schule erfolgt dann unter fachlicher Anleitung die Umsetzung. Vorkenntnisse sind dafür nicht erforderlich. \nEinfach im Kulturtreff anmelden und MITMACHEN.\nLeitung: Simon Kux (Produktdesigner)\nOrt: Im Kulturtreff\nin Kooperation mit der Werk-statt-Schule e.V.\, Roscherburg 2+4\, 30657 Hannover Bothfeld \nEine Veranstaltung im Rahmen des Projekts „Demokratie:Dialog“\, gefördert von der Landeshauptstadt Hannover.
URL:https://www.kulturtreffbothfeld.de/events/planungs-und-bauworkshop-gemeinsam-fuer-den-dialog/
CATEGORIES:Demokratie:Dialog,Einzelveranstaltungen,Programm,Veranstaltungen
END:VEVENT
BEGIN:VEVENT
DTSTART;TZID=Europe/Berlin:20260602T163000
DTEND;TZID=Europe/Berlin:20260602T170000
DTSTAMP:20260421T125603
CREATED:20260317T153131Z
LAST-MODIFIED:20260317T153131Z
UID:13081-1780417800-1780419600@www.kulturtreffbothfeld.de
SUMMARY:Nachmittagsmusik
DESCRIPTION:Aus der Mittagsmusik wird die Nachmitagsmusik: kleine\, feine Konzerthäppchen zu einer Tasse Kaffee oder Tee auf unserer grünen\, lauschigen Innenhof-Terrasse.\nDie Konzerte finden draußen statt – bei sehr schlechtem Wetter ausnahmsweise auch drin!\nDer Eintritt ist frei\, um eine angemessene Spende wird gebeten.\nAnmeldung erbeten. \nBo3\nDas Trio aus Bothfeld präsentiert einige seiner Lieblingssongs der letzten Jahrzehnte – akustisch und stilistisch vielseitig zwischen Folk\, Pop und Blues. Bekannte Titel erhalten frische Arrangements\, getragen von mehrstimmigem Gesang und handgemachtem Klang.\nAnnette Borges – Geige\, Gesang\nKlaus Hedrich – Gitarre\, Ukulele\, Gesang\nMatthias Hoffmann – Gitarre\, Gesang
URL:https://www.kulturtreffbothfeld.de/events/nachmittagsmusik-2/
CATEGORIES:Einzelveranstaltungen,MittagsMusik,Programm,Veranstaltungen
END:VEVENT
BEGIN:VEVENT
DTSTART;TZID=Europe/Berlin:20260606T150000
DTEND;TZID=Europe/Berlin:20260606T173000
DTSTAMP:20260421T125603
CREATED:20260401T084203Z
LAST-MODIFIED:20260318T094258Z
UID:13110-1780758000-1780767000@www.kulturtreffbothfeld.de
SUMMARY:Workshop kreative Schreibtherapie
DESCRIPTION:Schreiben hilft und inspiriert\nDieser Workshop richtet sich an Menschen\, die in oder nach einer schwierigen Lebensphase etwas für sich tun möchten. Die kreative Schreibtherapie kann dazu beitragen\, den Alltag weniger sorgenvoll zu erleben und konstruktiv mit den individuellen Herausforderungen umzugehen. Mit gezielten Schreibimpulsen wollen wir herausfinden\, was im Moment trägt und welche Kraftquellen sich auftun. Schreiben macht Spaß\, inspiriert und belebt unsere inneren Ressourcen. Für die Teilnahme sind keinerlei Vorkenntnisse erforderlich\, lediglich Stift\, Papier und eine Portion Neugierde sollten Sie mitbringen.\nDr. med. Julia Schwerdtfeger (Frauenärztin/Psychotherapie\, Schreibtherapeutin)\n(mind. 6\, max 10 TN)\nTeilnahmebeitrag: 12\,50 € pro Termin\nVorherige Anmeldung und Bezahlung erforderlich.
URL:https://www.kulturtreffbothfeld.de/events/workshop-kreative-schreibtherapie-8/
CATEGORIES:Einzelveranstaltungen,Programm,Veranstaltungen
END:VEVENT
BEGIN:VEVENT
DTSTART;TZID=Europe/Berlin:20260609T103000
DTEND;TZID=Europe/Berlin:20260609T123000
DTSTAMP:20260421T125603
CREATED:20260401T125920Z
LAST-MODIFIED:20260317T140107Z
UID:13069-1781001000-1781008200@www.kulturtreffbothfeld.de
SUMMARY:Führung Gedenkstätte Ahlem
DESCRIPTION:Die Gedenkstätte Ahlem bietet auf vier Stockwerken plus Außengelände eine der modernsten historischen Ausstellungen in Hannover. Die wechselvolle Geschichte von der „Israelitischen Gartenbauschule“ für jüdische Kinder und Jugendliche bis zum Ort der Deportation in der NS-Zeit findet hier Raum.\nIm ersten Obergeschoss liegt der Fokus auf Verfolgung und Ausgrenzung während des Nationalsozialismus. Das zweite Obergeschoss ist dem deutsch-jüdischen Leben in der von dem Bankier Moritz Simon gegründeten Gartenbauschule gewidmet. Dieser Bereich stellt die Geschichte in den Jahren von 1893 bis 1942 und nach der Befreiung 1945 dar.\nAuf dem Außengelände ist das Gebäude über eine Wegachse mit der “Wand der Namen” verbunden. Auf über 3000 Tafeln sind hier Menschen mit ihren Lebensdaten verewigt\, für die Ahlem eine Station in den Tod war. Am Hauptweg sind außerdem fünf Ausstellungspulte aufgereiht\, die die Ausbildung und den Alltag im Schulinternat dokumentieren.\nGemeinsam wollen wir während der Führung diesen Lern- und Gedenkort erkunden.\nTreffpunkt: Gedenkstätte Ahlem\, Heisterbergallee 10\nTeilnahmebeitrag: 3\,- €\nVorherige Anmeldung und Bezahlung im Kulturtreff erforderlich! \nEine Veranstaltung im Rahmen des Projekts „Demokratie:Dialog“\, gefördert von der Landeshauptstadt Hannover.
URL:https://www.kulturtreffbothfeld.de/events/fuehrung-gedenkstaette-ahlem/
CATEGORIES:Demokratie:Dialog,Einzelveranstaltungen,Programm,Veranstaltungen
END:VEVENT
BEGIN:VEVENT
DTSTART;TZID=Europe/Berlin:20260615T160000
DTEND;TZID=Europe/Berlin:20260615T190000
DTSTAMP:20260421T125603
CREATED:20260401T131440Z
LAST-MODIFIED:20260317T141604Z
UID:13075-1781539200-1781550000@www.kulturtreffbothfeld.de
SUMMARY:Planungs- und Bauworkshop: Gemeinsam für den Dialog
DESCRIPTION:Gemeinsame Gestaltung eines Sitzobjektes \nWir suchen Menschen\, die planerisch und handwerklich aktiv werden möchten\, um etwas für die (Stadtteil-) Gemeinschaft zu bauen. Nämlich: ein Objekt\, auf dem sich Menschen gerne niederlassen und das zum Dialog anregen kann. \nBeim Planungsworkshop wird erarbeitet\, was dieses Objekt können\, wie es aussehen soll und was dafür nötig sein wird.\nIn der Werk-statt-Schule erfolgt dann unter fachlicher Anleitung die Umsetzung. Vorkenntnisse sind dafür nicht erforderlich. \nEinfach im Kulturtreff anmelden und MITMACHEN.\nLeitung: Simon Kux (Produktdesigner)\nOrt: Werk-statt-Schule\, Roscherburg 2+4\, 30657 Hannover Bothfeld \nin Kooperation mit der Werk-statt-Schule e.V. \nEine Veranstaltung im Rahmen des Projekts „Demokratie:Dialog“\, gefördert von der Landeshauptstadt Hannover.
URL:https://www.kulturtreffbothfeld.de/events/planungs-und-bauworkshop-gemeinsam-fuer-den-dialog-2/
CATEGORIES:Demokratie:Dialog,Einzelveranstaltungen,Programm,Veranstaltungen
END:VEVENT
BEGIN:VEVENT
DTSTART;TZID=Europe/Berlin:20260616T150000
DTEND;TZID=Europe/Berlin:20260616T163000
DTSTAMP:20260421T125603
CREATED:20260317T154304Z
LAST-MODIFIED:20260317T154304Z
UID:13087-1781622000-1781627400@www.kulturtreffbothfeld.de
SUMMARY:Kaffeezeit mit Klönschnack
DESCRIPTION:Eine Möglichkeit neue Menschen und alte Bekannte im Stadtteil zu treffen und gemeinsam Zeit bei Kaffee/Tee\, Kuchen oder frischgebackenen Waffeln zu verbringen. Das ist die Kaffeezeit.\nKommen Sie vorbei. Bringen Sie sich ein. Seien Sie herzlich willkommen!\nAnmeldung erbeten.
URL:https://www.kulturtreffbothfeld.de/events/kaffeezeit-mit-kloenschnack-9/
CATEGORIES:Einzelveranstaltungen,Kaffeezeit für SeniorInnen,Programm,Veranstaltungen
END:VEVENT
BEGIN:VEVENT
DTSTART;TZID=Europe/Berlin:20260618T160000
DTEND;TZID=Europe/Berlin:20260618T183000
DTSTAMP:20260421T125603
CREATED:20260401T130221Z
LAST-MODIFIED:20260317T140427Z
UID:13071-1781798400-1781807400@www.kulturtreffbothfeld.de
SUMMARY:Themenrundgang „Demokratie und Freiheit“
DESCRIPTION:Beim kulturellen Abend der IGS\nAufführungen und Ausstellungen aus dem künstlerisch-kulturellen Bereich der IGS werden durch Werke aus unserer Kooperation „Schule:Kultur“ ergänzt\, die in der Projektwoche „Meine\, deine\, unsere Freiheit(en)“ 2025 entstanden sind.\nZwischen den Exponaten und Präsentationen gibt es die Möglichkeit bei einem kleinen Rundgang zum Thema „Demokratie und Freiheit“ zwanglos ins Gespräch zu gehen. Dabei darf natürlich auch auf den „Dialogbänken“ Platz genommen werden.\nEinfach vorbeikommen\, zuschauen und MITMACHEN. \nOrt: IGS Bothfeld \nEine Veranstaltung im Rahmen des Projekts „Demokratie:Dialog“\, gefördert von der Landeshauptstadt Hannover.
URL:https://www.kulturtreffbothfeld.de/events/themenrundgang-demokratie-und-freiheit/
CATEGORIES:Demokratie:Dialog,Einzelveranstaltungen,Programm,Veranstaltungen
END:VEVENT
END:VCALENDAR