BEGIN:VCALENDAR
VERSION:2.0
PRODID:-//Kulturtreff Bothfeld - ECPv6.15.20//NONSGML v1.0//EN
CALSCALE:GREGORIAN
METHOD:PUBLISH
X-WR-CALNAME:Kulturtreff Bothfeld
X-ORIGINAL-URL:https://www.kulturtreffbothfeld.de
X-WR-CALDESC:Veranstaltungen für Kulturtreff Bothfeld
REFRESH-INTERVAL;VALUE=DURATION:PT1H
X-Robots-Tag:noindex
X-PUBLISHED-TTL:PT1H
BEGIN:VTIMEZONE
TZID:Europe/Berlin
BEGIN:DAYLIGHT
TZOFFSETFROM:+0100
TZOFFSETTO:+0200
TZNAME:CEST
DTSTART:20250330T010000
END:DAYLIGHT
BEGIN:STANDARD
TZOFFSETFROM:+0200
TZOFFSETTO:+0100
TZNAME:CET
DTSTART:20251026T010000
END:STANDARD
BEGIN:DAYLIGHT
TZOFFSETFROM:+0100
TZOFFSETTO:+0200
TZNAME:CEST
DTSTART:20260329T010000
END:DAYLIGHT
BEGIN:STANDARD
TZOFFSETFROM:+0200
TZOFFSETTO:+0100
TZNAME:CET
DTSTART:20261025T010000
END:STANDARD
BEGIN:DAYLIGHT
TZOFFSETFROM:+0100
TZOFFSETTO:+0200
TZNAME:CEST
DTSTART:20270328T010000
END:DAYLIGHT
BEGIN:STANDARD
TZOFFSETFROM:+0200
TZOFFSETTO:+0100
TZNAME:CET
DTSTART:20271031T010000
END:STANDARD
END:VTIMEZONE
BEGIN:VEVENT
DTSTART;TZID=Europe/Berlin:20260803T100000
DTEND;TZID=Europe/Berlin:20260805T150000
DTSTAMP:20260421T162112
CREATED:20260317T084516Z
LAST-MODIFIED:20260317T085743Z
UID:13017-1785751200-1785942000@www.kulturtreffbothfeld.de
SUMMARY:Eintauchen: "Wie es euch gefällt“ – Wir bauen uns unser eigenes Fest und feiern!
DESCRIPTION:3. – 5. August\, jeweils 10.00 – 15.00 Uhr\nEintauchen – Sommerferienprogramm der Stadtteilkultur für Kinder und Jugendliche\n„Wie es euch gefällt“ – Wir bauen uns unser eigenes Fest und feiern!\nPhilosophisch-kreativer Workshop zum Thema „Feste und Alltag“\nWelche Anlässe zum Feiern kennen wir? Warum ist feiern für uns wichtig? Was wäre\, wenn jeder Tag ein Feiertag wäre? Was ist der Unterschied zum Alltag? Was könnte man – grundsätzlich oder jetzt gerade – feiern? Aber was brauchen wir eigentlich für UNSER Fest? Wie feiert ihr denn gerne? Lasst uns gemeinsam überlegen\, basteln\, gestalten und vorbereiten – und dann: Party!\nFür Kinder von 7 – 11 Jahren.\nVorherige Anmeldung im Kulturtreff bis zum 29.07. erforderlich!\nKosten: 12 Euro\, mit Feriencard 9 Euro\, mit Hannover Aktiv-Pass kostenfrei.\nBitte bringt etwas zu essen und zu trinken für die gemeinsame Mittagspause mit. Und unempfindliche Kleidung\, denn wir malen\, basteln\, klecksen…\nLeitung: Anette Klecha\, Greta Osarko und Catharina Wichert
URL:https://www.kulturtreffbothfeld.de/events/eintauchen-wie-es-euch-gefaellt-wir-bauen-uns-unser-eigenes-fest-und-feiern/
CATEGORIES:Kinder,Programm,Veranstaltungen
END:VEVENT
END:VCALENDAR